Workbook
Name CloumnTitle_Graphical_Displays_Analysis_Reviewer_Notes: 'Review Information'!#REF!
Name CloumnTitle_Graphical_Displays_Analysis_Reviewer_Notes: 'Adherence Review'!$C$103
Name ColumnTitle_Adherence_Review_Results: Definitions!#REF!
Name ColumnTitle_Antecedent_Interventions_Data_Entry: 'Review Information'!#REF!
Name ColumnTitle_Antecedent_Interventions_Data_Entry: 'Adherence Review'!$B$68
Name ColumnTitle_Appropriate_Signatures_Data_Entry: 'Review Information'!#REF!
Name ColumnTitle_Appropriate_Signatures_Data_Entry: 'Adherence Review'!$B$96
Name ColumnTitle_Appropriate_Signatures_Reviewer_Notes: 'Review Information'!#REF!
Name ColumnTitle_Appropriate_Signatures_Reviewer_Notes: 'Adherence Review'!$C$96
Name ColumnTitle_Behavior_Support_Plan_Information: 'Review Information'!$A$3
Name ColumnTitle_Behavior_Support_Plan_Information: 'Adherence Review'!#REF!
Name ColumnTitle_Behavior_Targeted_Decrease_Data_Entry: 'Review Information'!#REF!
Name ColumnTitle_Behavior_Targeted_Decrease_Data_Entry: 'Adherence Review'!$B$54
Name ColumnTitle_Behavior_Targeted_decrease_Reviewer_Notes: 'Review Information'!#REF!
Name ColumnTitle_Behavior_Targeted_decrease_Reviewer_Notes: 'Adherence Review'!$C$54
Name ColumnTitle_Behavior_Targeted_Increase_Data_Entry: 'Review Information'!#REF!
Name ColumnTitle_Behavior_Targeted_Increase_Data_Entry: 'Adherence Review'!$B$61
Name ColumnTitle_Behavior_Targeted_Increase_Reviewer_Notes: 'Review Information'!#REF!
Name ColumnTitle_Behavior_Targeted_Increase_Reviewer_Notes: 'Adherence Review'!$C$61
Name ColumnTitle_BSP_info_Data_Entry: 'Review Information'!$B$3
Name ColumnTitle_BSP_info_Data_Entry: 'Adherence Review'!#REF!
Name ColumnTitle_BSP_Info_Reviewer_Notes: 'Review Information'!#REF!
Name ColumnTitle_BSP_Info_Reviewer_Notes: 'Adherence Review'!#REF!
Name ColumnTitle_Consequence_Interventions_Data_Entry: 'Review Information'!#REF!
Name ColumnTitle_Consequence_Interventions_Data_Entry: 'Adherence Review'!$B$75
Name ColumnTitle_Consequence_Interventions_Reviewer_Notes: 'Review Information'!#REF!
Name ColumnTitle_Consequence_Interventions_Reviewer_Notes: 'Adherence Review'!$C$75
Name ColumnTitle_Content_Area__Antecedent_Interventions: 'Review Information'!#REF!
Name ColumnTitle_Content_Area__Antecedent_Interventions: 'Adherence Review'!$A$68
Name ColumnTitle_Content_Area__Appropriate_Signatures: 'Review Information'!#REF!
Name ColumnTitle_Content_Area__Appropriate_Signatures: 'Adherence Review'!$A$96
Name ColumnTitle_Content_Area__Behaviors_Targeted_for_Decrease: 'Review Information'!#REF!
Name ColumnTitle_Content_Area__Behaviors_Targeted_for_Decrease: 'Adherence Review'!$A$54
Name ColumnTitle_Content_Area__Behaviors_Targeted_for_Increase: 'Review Information'!#REF!
Name ColumnTitle_Content_Area__Behaviors_Targeted_for_Increase: 'Adherence Review'!$A$61
Name ColumnTitle_Content_Area__Consequence_Interventions: 'Review Information'!#REF!
Name ColumnTitle_Content_Area__Consequence_Interventions: 'Adherence Review'!$A$75
Name ColumnTitle_Content_Area__Demographics: 'Review Information'!#REF!
Name ColumnTitle_Content_Area__Demographics: 'Adherence Review'!$A$3
Name ColumnTitle_Content_Area__Functional_Behavioral_Assessment__FBA: 'Review Information'!#REF!
Name ColumnTitle_Content_Area__Functional_Behavioral_Assessment__FBA: 'Adherence Review'!$A$37
Name ColumnTitle_Content_Area__Graphical_Displays___Analysis: 'Review Information'!#REF!
Name ColumnTitle_Content_Area__Graphical_Displays___Analysis: 'Adherence Review'!$A$103
Name ColumnTitle_Content_Area__History_and_Rationale: 'Review Information'!#REF!
Name ColumnTitle_Content_Area__History_and_Rationale: 'Adherence Review'!$A$16
Name ColumnTitle_Content_Area__Hypothesized_Functions: 'Review Information'!#REF!
Name ColumnTitle_Content_Area__Hypothesized_Functions: 'Adherence Review'!$A$49
Name ColumnTitle_Content_Area__Person_Centered_Information: 'Review Information'!#REF!
Name ColumnTitle_Content_Area__Person_Centered_Information: 'Adherence Review'!$A$25
Name ColumnTitle_Content_Area__Plan_for_Training: 'Review Information'!#REF!
Name ColumnTitle_Content_Area__Plan_for_Training: 'Adherence Review'!$A$90
Name ColumnTitle_Demographics_Data_Entry: 'Review Information'!#REF!
Name ColumnTitle_Demographics_Data_Entry: 'Adherence Review'!$B$3
Name ColumnTitle_Demographics_Reviewer_Notes: 'Review Information'!#REF!
Name ColumnTitle_Demographics_Reviewer_Notes: 'Adherence Review'!$C$3
Name ColumnTitle_FBA_Data_Entry: 'Review Information'!#REF!
Name ColumnTitle_FBA_Data_Entry: 'Adherence Review'!$B$37
Name ColumnTitle_FBA_Reviewer_Notes: 'Review Information'!#REF!
Name ColumnTitle_FBA_Reviewer_Notes: 'Adherence Review'!$C$37
Name ColumnTitle_Graphical_Displays_Analysis_Data_Entry: 'Review Information'!#REF!

Sheet Review Information
A1: Behavior Support Plan Adherence Review Instrument (BSPARI)
A2: Enter information in column B.
A3: Content Area: Behavior Support Plan Information | B3: Data Entry
A4: Individual's name:
A5: Clinician & Credentials:
A6: Clinician contact:
A7: Date of review:
A8: Support Coordinator:
A9: Date of review w/ clinician:
A10: DBHDS Reviewer:
A11: Authorization type:
A12: Date of current plan:
A13: Authorization start date:
A14: CSB:
A15: Region:
... A18: End of worksheet

Sheet Adherence Review
A1: Behavior Support Plan Adherence Review Instrument (BSPARI) | B1: Name: | C1: =IF('Review Information'!B4<>"",'Review Information'!B4,"Please enter individual's name within the Review Information worksheet") -> Please enter individual's name within the Review Information worksheet
A2: Review behavior support plan documents and enter findings in column B.
A3: Content Area: Demographics | B3: Data Entry | C3: Reviewer Notes
A4: Individual’s name
A5: Date of birth or age
A6: Gender identification
A7: Medical/behavioral health diagnostic information
A8: Current living situation & location where the behavior support plan (BSP) is being implemented
A9: Medicaid ID
A10: Medications (if known)
A11: Legal status (e.g., authority to consent to plan)
A12: Date of initial plan and revisions (and nature of revisions)
A13: Authoring clinician’s name/credentials/contact information
A14: Points for demographic content area: | B14: =IF(AND($B$4="✔",$B$7="✔",$B$11="✔",$B$12="✔",$B$13="✔"),1,0) -> 0
A15: End of Demographics section,continue to History and Rationale.
A16: Content Area: History and Rationale | B16: Data Entry | C16: Reviewer Notes
A17: Current and/or relevant historical info about this person and their life
A18: The reason, rationale for BSP/necessity for intervention
A19: Dangerous behavior: topographies, intensities, risks and/or negative outcomes
A20: Risk and benefits related to prescribed behavioral programming
A21: Known history of previous services and impact on behavior
A22: Trauma history
A23: Points for history and rationale content area: | B23: =IF(AND($B$17="✔",$B$18="✔",$B$19="✔",$B$20="✔"),2,IF(AND($B$17="✔",$B$18="✔",$B$19="✔",$B$20<>"✔"),1,0)) -> 0
A24: End of History & Rationale section, continue to Person Centered Information.
A25: Content Area: Person Centered Information | B25: Data Entry | C25: Reviewer Notes
A26: Individual’s communication modality
A27: Routines/current schedule
A28: Individual and guardian’s participation
A29: What activities are enjoyed and sought by the individual
A30: Preference assessment information/results
A31: Individual’s strengths and positive contributions
A32: Particular aversions/dislikes
A33: Who in the individual’s life is especially preferred
A34: Other cultural/heritage considerations (if known)
A35: Points for person centered information content area: | B35: =IF(AND($B$26="✔",$B$27="✔",$B$28="✔",$B$29="✔",$B$31="✔",$B$32="✔",$B$33="✔"),3,IF(AND($B$26="✔",$B$27="✔",$B$28="✔",$B$29="✔"),2,IF(AND($B$26="✔",$B$27="✔",$B$28<>"✔",$B$29="✔"),1,0))) -> 0
A36: End of Person Centered Information section, continue to FBA below.
A37: Content Area: Functional Behavioral Assessment (FBA) | B37: Data Entry | C37: Reviewer Notes
A38: The FBA methods include descriptive assessment and/or functional analysis
A39: The FBA methods used are described
A40: FBA conducted in location where services are occurring
...

Sheet Resources
A1: BSPARI Resources
A2: Review the following resources that correspond with required elements.
A3: BSP content area and minimum required elements | B3: Hyper link for recommended resource
A4: Demographics | B4: Virginia Law 12VAC30-122-550. Therapeutic consultation service. | C4: Adherence Review Results
A5: Individual’s name (1 of 2) | B5: Toward an understanding of the essential components of behavior analytic service plans | C5: =IF('Adherence Review'!$B$4="","Not Scored",IF('Adherence Review'!$B$4="X","X","✔")) -> Not Scored | P5: 21 | Q5: =IF('Adherence Review'!$B$4="","Not Scored",IF('Adherence Review'!$B$4="X","X","✔")) -> Not Scored
A6: Individual’s name (2 of 2) | B6: Virginia DBHDS/DMAS Practice Guidelines for Behavior Support Plans | C6: =IF('Adherence Review'!$B$4="","Not Scored",IF('Adherence Review'!$B$4="X","X","✔")) -> Not Scored | Q6: =IF('Adherence Review'!$B$4="","Not Scored",IF('Adherence Review'!$B$4="X","X","✔")) -> Not Scored
A7: Date of birth or age (1 of 2) | B7: Toward an understanding of the essential components of behavior analytic service plans | C7: =IF('Adherence Review'!$B$5="","Not Scored",IF('Adherence Review'!$B$5="X","X","✔")) -> Not Scored | P7: 22 | Q7: =IF('Adherence Review'!$B$5="","Not Scored",IF('Adherence Review'!$B$5="X","X","✔")) -> Not Scored
A8: Date of birth or age (2 of 2) | B8: Virginia DBHDS/DMAS Practice Guidelines for Behavior Support Plans | C8: =IF('Adherence Review'!$B$5="","Not Scored",IF('Adherence Review'!$B$5="X","X","✔")) -> Not Scored | Q8: =IF('Adherence Review'!$B$5="","Not Scored",IF('Adherence Review'!$B$5="X","X","✔")) -> Not Scored
A9: Gender identification (1 of 2) | B9: A self-assessment tool for cultivating affirming practices with transgender and gender-nonconforming (TGNC) clients, supervisees, students, and colleagues. | C9: =IF('Adherence Review'!$B$6="","Not Scored",IF('Adherence Review'!$B$6="X","X","✔")) -> Not Scored | P9: 23 | Q9: =IF('Adherence Review'!$B$6="","Not Scored",IF('Adherence Review'!$B$6="X","X","✔")) -> Not Scored
A10: Gender identification (2 of 2) | B10: Virginia DBHDS/DMAS Practice Guidelines for Behavior Support Plans | C10: =IF('Adherence Review'!$B$6="","Not Scored",IF('Adherence Review'!$B$6="X","X","✔")) -> Not Scored | Q10: =IF('Adherence Review'!$B$6="","Not Scored",IF('Adherence Review'!$B$6="X","X","✔")) -> Not Scored
A11: Medical/behavioral health diagnostic information (1 of 1) | B11: Virginia DBHDS/DMAS Practice Guidelines for Behavior Support Plans | C11: =IF('Adherence Review'!$B$7="","Not Scored",IF('Adherence Review'!$B$7="X","X","✔")) -> Not Scored | P11: 24 | Q11: =IF('Adherence Review'!$B$7="","Not Scored",IF('Adherence Review'!$B$7="X","X","✔")) -> Not Scored
A12: Current living situation & location where the behavior support plan (BSP) is being implemented (1 of 1) | B12: Virginia DBHDS/DMAS Practice Guidelines for Behavior Support Plans | C12: =IF('Adherence Review'!$B$8="","Not Scored",IF('Adherence Review'!$B$8="X","X","✔")) -> Not Scored | P12: 25 | Q12: =IF('Adherence Review'!$B$8="","Not Scored",IF('Adherence Review'!$B$8="X","X","✔")) -> Not Scored
A13: Medicaid ID (1 of 1) | B13: Virginia DBHDS/DMAS Practice Guidelines for Behavior Support Plans | C13: =IF('Adherence Review'!$B$9="","Not Scored",IF('Adherence Review'!$B$9="X","X","✔")) -> Not Scored | P13: 26 | Q13: =IF('Adherence Review'!$B$9="","Not Scored",IF('Adherence Review'!$B$9="X","X","✔")) -> Not Scored
A14: Medications (if known) (1 of 1) | B14: Board certified behavior analysts and psychotropic medications: slipshod training, inconsistent involvement, and reason for hope | C14: =IF('Adherence Review'!$B$10="","Not Scored",IF('Adherence Review'!$B$10="X","X","✔")) -> Not Scored | P14: 27 | Q14: =IF('Adherence Review'!$B$10="","Not Scored",IF('Adherence Review'!$B$10="X","X","✔")) -> Not Scored
A15: Medications (if known) (1 of 1) | B15: Virginia DBHDS/DMAS Practice Guidelines for Behavior Support Plans | C15: =IF('Adherence Review'!$B$10="","Not Scored",IF('Adherence Review'!$B$10="X","X","✔")) -> Not Scored | Q15: =IF('Adherence Review'!$B$10="","Not Scored",IF('Adherence Review'!$B$10="X","X","✔")) -> Not Scored
A16: Legal status (e.g., authority to consent to plan) (1 of 1) | B16: Virginia DBHDS/DMAS Practice Guidelines for Behavior Support Plans | C16: =IF('Adherence Review'!$B$11="","Not Scored",IF('Adherence Review'!$B$11="X","X","✔")) -> Not Scored | P16: 28 | Q16: =IF('Adherence Review'!$B$11="","Not Scored",IF('Adherence Review'!$B$11="X","X","✔")) -> Not Scored
A17: Date of initial plan and revisions (and nature of revisions) (1 of 1) | B17: Virginia DBHDS/DMAS Practice Guidelines for Behavior Support Plans | C17: =IF('Adherence Review'!$B$12="","Not Scored",IF('Adherence Review'!$B$12="X","X","✔")) -> Not Scored | P17: 29 | Q17: =IF('Adherence Review'!$B$12="","Not Scored",IF('Adherence Review'!$B$12="X","X","✔")) -> Not Scored
A18: Authoring clinician’s name/credentials/contact information (1 of 1) | B18: Virginia DBHDS/DMAS Practice Guidelines for Behavior Support Plans | C18: =IF('Adherence Review'!$B$13="","Not Scored",IF('Adherence Review'!$B$13="X","X","✔")) -> Not Scored | P18: 30 | Q18: =IF('Adherence Review'!$B$13="","Not Scored",IF('Adherence Review'!$B$13="X","X","✔")) -> Not Scored
A19: History and Rationale | B19: Virginia Law 12VAC30-122-550. Therapeutic consultation service. | C19: Adherence Review Results
A20: Current and/or relevant historical info about this person and their life (1 of 1) | B20: Virginia DBHDS/DMAS Practice Guidelines for Behavior Support Plans | C20: =IF('Adherence Review'!$B$17="","Not Scored",IF('Adherence Review'!$B$17="X","X","✔")) -> Not Scored | P20: 36 | Q20: =IF('Adherence Review'!$B$17="","Not Scored",IF('Adherence Review'!$B$17="X","X","✔")) -> Not Scored
A21: The reason, rationale for BSP/necessity for intervention (1 of 2) | B21: Elements of behavior support plans: a technical brief | C21: =IF('Adherence Review'!$B$18="","Not Scored",IF('Adherence Review'!$B$18="X","X","✔")) -> Not Scored | P21: 37 | Q21: =IF('Adherence Review'!$B$18="","Not Scored",IF('Adherence Review'!$B$18="X","X","✔")) -> Not Scored
A22: The reason, rationale for BSP/necessity for intervention (2 of 2) | B22: Virginia DBHDS/DMAS Practice Guidelines for Behavior Support Plans | C22: =IF('Adherence Review'!$B$18="","Not Scored",IF('Adherence Review'!$B$18="X","X","✔")) -> Not Scored | Q22: =IF('Adherence Review'!$B$18="","Not Scored",IF('Adherence Review'!$B$18="X","X","✔")) -> Not Scored
A23: Dangerous behavior: topographies, intensities, risks and/or negative outcomes (1 of 1) | B23: Virginia DBHDS/DMAS Practice Guidelines for Behavior Support Plans | C23: =IF('Adherence Review'!$B$19="","Not Scored",IF('Adherence Review'!$B$19="X","X","✔")) -> Not Scored | P23: 38 | Q23: =IF('Adherence Review'!$B$19="","Not Scored",IF('Adherence Review'!$B$19="X","X","✔")) -> Not Scored
A24: Risk and benefits related to prescribed behavioral programming (1 of 2) | B24: Toward the development of a functional analysis risk assessment decision tool | C24: =IF('Adherence Review'!$B$20="","Not Scored",IF('Adherence Review'!$B$20="X","X","✔")) -> Not Scored | P24: 39 | Q24: =IF('Adherence Review'!$B$20="","Not Scored",IF('Adherence Review'!$B$20="X","X","✔")) -> Not Scored
A25: Risk and benefits related to prescribed behavioral programming (2 of 2) | B25: Toward an understanding of the essential components of behavior analytic service plans | C25: =IF('Adherence Review'!$B$20="","Not Scored",IF('Adherence Review'!$B$20="X","X","✔")) -> Not Scored | Q25: =IF('Adherence Review'!$B$20="","Not Scored",IF('Adherence Review'!$B$20="X","X","✔")) -> Not Scored
A26: Known history of previous services and impact on behavior (1 of 1) | B26: Virginia DBHDS/DMAS Practice Guidelines for Behavior Support Plans | C26: =IF('Adherence Review'!$B$21="","Not Scored",IF('Adherence Review'!$B$21="X","X","✔")) -> Not Scored | P26: 40 | Q26: =IF('Adherence Review'!$B$21="","Not Scored",IF('Adherence Review'!$B$21="X","X","✔")) -> Not Scored
A27: Trauma history (1 of 1) | B27: Integrating a trauma-informed approach within a PBIS framework | C27: =IF('Adherence Review'!$B$22="","Not Scored",IF('Adherence Review'!$B$22="X","X","✔")) -> Not Scored | P27: 41 | Q27: =IF('Adherence Review'!$B$22="","Not Scored",IF('Adherence Review'!$B$22="X","X","✔")) -> Not Scored
A28: Trauma history (1 of 4) | B28: Toward trauma-informed applications of behavior analysis | C28: =IF('Adherence Review'!$B$22="","Not Scored",IF('Adherence Review'!$B$22="X","X","✔")) -> Not Scored | Q28: =IF('Adherence Review'!$B$22="","Not Scored",IF('Adherence Review'!$B$22="X","X","✔")) -> Not Scored
A29: Trauma history (2 of 4) | B29: SAMHSA’s concept of trauma and guidance for a trauma- informed approach | C29: =IF('Adherence Review'!$B$22="","Not Scored",IF('Adherence Review'!$B$22="X","X","✔")) -> Not Scored | Q29: =IF('Adherence Review'!$B$22="","Not Scored",IF('Adherence Review'!$B$22="X","X","✔")) -> Not Scored
A30: Trauma history (3 of 4) | B30: Implementing culturally responsive and trauma-informed practices with checklists and goal setting | C30: =IF('Adherence Review'!$B$22="","Not Scored",IF('Adherence Review'!$B$22="X","X","✔")) -> Not Scored | Q30: =IF('Adherence Review'!$B$22="","Not Scored",IF('Adherence Review'!$B$22="X","X","✔")) -> Not Scored
A31: Trauma history (4 of 4) | B31: Trauma-informed care (TIC) of persons with intellectual and developmental disabilities: A pilot survey | C31: =IF('Adherence Review'!$B$22="","Not Scored",IF('Adherence Review'!$B$22="X","X","✔")) -> Not Scored | Q31: =IF('Adherence Review'!$B$22="","Not Scored",IF('Adherence Review'!$B$22="X","X","✔")) -> Not Scored
A32: Person Centered Information | B32: Virginia Law 12VAC30-122-550. Therapeutic consultation service. | C32: Adherence Review Results
A33: Individual’s communication modality (1 of 5) | B33: Verbal behavior analysis: a program of research in the induction and expansion of complex verbal behavior | C33: =IF('Adherence Review'!$B$26="","Not Scored",IF('Adherence Review'!$B$26="X","X","✔")) -> Not Scored | P33: 47 | Q33: =IF('Adherence Review'!$B$26="","Not Scored",IF('Adherence Review'!$B$26="X","X","✔")) -> Not Scored
A34: Individual’s communication modality (2 of 5) | B34: An analysis of maintenance following functional communication training | C34: =IF('Adherence Review'!$B$26="","Not Scored",IF('Adherence Review'!$B$26="X","X","✔")) -> Not Scored | Q34: =IF('Adherence Review'!$B$26="","Not Scored",IF('Adherence Review'!$B$26="X","X","✔")) -> Not Scored
A35: Individual’s communication modality (3 of 5) | B35: Elements of behavior support plans: a technical brief. Exceptionality | C35: =IF('Adherence Review'!$B$26="","Not Scored",IF('Adherence Review'!$B$26="X","X","✔")) -> Not Scored | Q35: =IF('Adherence Review'!$B$26="","Not Scored",IF('Adherence Review'!$B$26="X","X","✔")) -> Not Scored
A36: Individual’s communication modality (4 of 5) | B36: Essential 10: Essential Components of Behavior Intervention Plans | C36: =IF('Adherence Review'!$B$26="","Not Scored",IF('Adherence Review'!$B$26="X","X","✔")) -> Not Scored | Q36: =IF('Adherence Review'!$B$26="","Not Scored",IF('Adherence Review'!$B$26="X","X","✔")) -> Not Scored
A37: Individual’s communication modality (5 of 5) | B37: Virginia DBHDS/DMAS Practice Guidelines for Behavior Support Plans | C37: =IF('Adherence Review'!$B$26="","Not Scored",IF('Adherence Review'!$B$26="X","X","✔")) -> Not Scored | Q37: =IF('Adherence Review'!$B$26="","Not Scored",IF('Adherence Review'!$B$26="X","X","✔")) -> Not Scored
A38: Routines/current schedule (1 of 5) | B38: Person-centered planning: analysis of research and effectiveness. Intellectual and Developmental Disabilities | C38: =IF('Adherence Review'!$B$27="","Not Scored",IF('Adherence Review'!$B$27="X","X","✔")) -> Not Scored | P38: 48 | Q38: =IF('Adherence Review'!$B$27="","Not Scored",IF('Adherence Review'!$B$27="X","X","✔")) -> Not Scored
A39: Routines/current schedule (2 of 5) | B39: Positive behavior support for individuals with behavior challenges. Behavior Analysis in Practice | C39: =IF('Adherence Review'!$B$27="","Not Scored",IF('Adherence Review'!$B$27="X","X","✔")) -> Not Scored | Q39: =IF('Adherence Review'!$B$27="","Not Scored",IF('Adherence Review'!$B$27="X","X","✔")) -> Not Scored
A40: Routines/current schedule (3 of 5) | B40: Elements of behavior support plans: a technical brief. Exceptionality | C40: =IF('Adherence Review'!$B$27="","Not Scored",IF('Adherence Review'!$B$27="X","X","✔")) -> Not Scored | Q40: =IF('Adherence Review'!$B$27="","Not Scored",IF('Adherence Review'!$B$27="X","X","✔")) -> Not Scored
...

Sheet Definitions
A1: Definitions
A2: Use the definitions below to score the Behavior Support Plan Adherence Review Instrument.
A3: Required BSP content area | B3: Adherence Review Results | C3: Required minimum elements | D3: Scoring criteria (unless otherwise indicated, an X constitutes absence of what is listed as criteria for a ✔)
A4: Demographics | B4: =IF('Adherence Review'!$B4="","Not Scored",IF('Adherence Review'!$B4="X","X","✔")) -> Not Scored | C4: Individual’s name | D4: ✔ = Individual's first name (or preferred name) and last name are included
A5: Demographics | B5: =IF('Adherence Review'!$B5="","Not Scored",IF('Adherence Review'!$B5="X","X","✔")) -> Not Scored | C5: Date of birth or age | D5: ✔ = Individual's date of birth and/or age are included
A6: Demographics | B6: =IF('Adherence Review'!$B6="","Not Scored",IF('Adherence Review'!$B6="X","X","✔")) -> Not Scored | C6: Gender identification | D6: ✔ = Gender identification is noted via pronouns or specifically stated.
A7: Demographics | B7: =IF('Adherence Review'!$B7="","Not Scored",IF('Adherence Review'!$B7="X","X","✔")) -> Not Scored | C7: Medical/behavioral health diagnostic information | D7: ✔ = One or more medical/behavioral health diagnosis is included.
A8: Demographics | B8: =IF('Adherence Review'!$B8="","Not Scored",IF('Adherence Review'!$B8="X","X","✔")) -> Not Scored | C8: Current living situation & location where the behavior support plan (BSP) is being implemented | D8: ✔ = The individual's home is named, described, or address provided. If the BSP is being implemented in a place that is not the individual's home, documentation includes a name, description, or address of that location or locations.
A9: Demographics | B9: =IF('Adherence Review'!$B9="","Not Scored",IF('Adherence Review'!$B9="X","X","✔")) -> Not Scored | C9: Medicaid ID | D9: ✔ = The individual's Medicaid ID number is included
A10: Demographics | B10: =IF('Adherence Review'!$B10="","Not Scored",IF('Adherence Review'!$B10="X","X","✔")) -> Not Scored | C10: Medications (if known) | D10: ✔ = Medications are included in and/or information is provided regarding where this information can be found (e.g., MAR).
A11: Demographics | B11: =IF('Adherence Review'!$B11="","Not Scored",IF('Adherence Review'!$B11="X","X","✔")) -> Not Scored | C11: Legal status (e.g., authority to consent to plan) | D11: ✔ = Information is provided regarding who has legal authority to consent to the plan. This may be the person receiving services or another individual such as a guardian.
A12: Demographics | B12: =IF('Adherence Review'!$B12="","Not Scored",IF('Adherence Review'!$B12="X","X","✔")) -> Not Scored | C12: Date of initial plan and revisions (and nature of revisions) | D12: ✔ = The first date of the behavior support plan or assessment is listed; if applicable, dates of revisions are listed and information is provided in the BSP about the revision, or revisions. Revision information may also be garnered from graphical displays.
A13: Demographics | B13: =IF('Adherence Review'!$B13="","Not Scored",IF('Adherence Review'!$B13="X","X","✔")) -> Not Scored | C13: Authoring clinician’s name/credentials/contact information | D13: ✔ = The name of the clinician overseeing the plan is listed, their credentials is listed, and contact information (e.g. phone, fax, email, physical address, and/or website with contact information) is provided.
A14: History and Rationale | B14: =IF('Adherence Review'!$B17="","Not Scored",IF('Adherence Review'!$B17="X","X","✔")) -> Not Scored | C14: Current and/or relevant historical info about this person and their life | D14: ✔ = Current and/or historical information about the person and their life is provided
A15: History and Rationale | B15: =IF('Adherence Review'!$B18="","Not Scored",IF('Adherence Review'!$B18="X","X","✔")) -> Not Scored | C15: The reason, rationale for BSP/necessity for intervention | D15: ✔ = The reason, rationale, necessity for behavioral intervention is listed
A16: History and Rationale | B16: =IF('Adherence Review'!$B19="","Not Scored",IF('Adherence Review'!$B19="X","X","✔")) -> Not Scored | C16: Dangerous behavior: topographies, intensities, risks and/or negative outcomes | D16: ✔ = The topography, intensity, risks associated with/and or negative outcomes is provided for at least one challenging behavior in the plan
A17: History and Rationale | B17: =IF('Adherence Review'!$B20="","Not Scored",IF('Adherence Review'!$B20="X","X","✔")) -> Not Scored | C17: Risk and benefits related to prescribed behavioral programming | D17: ✔ = A risk benefit statement, risk benefit analysis, and/or signed attestation that risks/benefits have been reviewed with the person who is consenting to the plan is listed
A18: History and Rationale | B18: =IF('Adherence Review'!$B21="","Not Scored",IF('Adherence Review'!$B21="X","X","✔")) -> Not Scored | C18: Known history of previous services and impact on behavior | D18: ✔ = Information on previous service, or services relevant to behavior is included, along with impact on behavior or outcome of service, or services. If not provided, "unknown" or other similar indication is provided about this history
A19: History and Rationale | B19: =IF('Adherence Review'!$B22="","Not Scored",IF('Adherence Review'!$B22="X","X","✔")) -> Not Scored | C19: Trauma history | D19: ✔ = Includes a description or descriptions of an event, series of events, or set of circumstances experienced by the individual that is physically or emotionally harmful or life threatening. Or, trauma history/considerations are noted as "unknown", "not applicable" or other similar indication is provided that indicates this information is not available or relevant to this person.
A20: Person Centered Information | B20: =IF('Adherence Review'!$B26="","Not Scored",IF('Adherence Review'!$B26="X","X","✔")) -> Not Scored | C20: Individual’s communication modality | D20: ✔ = Includes information about how the person communicates with others
A21: Person Centered Information | B21: =IF('Adherence Review'!$B27="","Not Scored",IF('Adherence Review'!$B27="X","X","✔")) -> Not Scored | C21: Routines/current schedule | D21: ✔ = Includes information on the person's schedule and/or routines
A22: Person Centered Information | B22: =IF('Adherence Review'!$B28="","Not Scored",IF('Adherence Review'!$B28="X","X","✔")) -> Not Scored | C22: Individual and guardian’s participation | D22: ✔ = Includes information about how the individual (and guardian, if guardian is required to consent to plan), participated in assessment and/or plan development
A23: Person Centered Information | B23: =IF('Adherence Review'!$B29="","Not Scored",IF('Adherence Review'!$B29="X","X","✔")) -> Not Scored | C23: What activities are enjoyed and sought by the individual | D23: ✔ = Includes information about stimuli that are known to be or hypothesized to be preferred/enjoyed by the individual (e.g. stimuli that may function as reinforcement). May not necessarily include the specific methods used (e.g. preference assessment) to determine these stimuli.
A24: Person Centered Information | B24: =IF('Adherence Review'!$B30="","Not Scored",IF('Adherence Review'!$B30="X","X","✔")) -> Not Scored | C24: Preference assessment information/results | D24: ✔ = Includes information about both the type and results of preference assessment, or assessments conducted to determine what may function as reinforcement for the individual
A25: Person Centered Information | B25: =IF('Adherence Review'!$B31="","Not Scored",IF('Adherence Review'!$B31="X","X","✔")) -> Not Scored | C25: Individual’s strengths and positive contributions | D25: ✔ = Includes information about what the person is good at, and/or behaviors the person engages in that are valued by others.
A26: Person Centered Information | B26: =IF('Adherence Review'!$B32="","Not Scored",IF('Adherence Review'!$B32="X","X","✔")) -> Not Scored | C26: Particular aversions/dislikes | D26: ✔ = Includes information about what the person does not like or may not like/find to be aversive, unpleasant, noxious
A27: Person Centered Information | B27: =IF('Adherence Review'!$B33="","Not Scored",IF('Adherence Review'!$B33="X","X","✔")) -> Not Scored | C27: Who in the individual’s life is especially preferred | D27: ✔ = Notes who in the person's life is preferred by the person and/or who the person enjoys to be with. If this is not applicable to the person, notes that the person does not have preferred people in their life
A28: Person Centered Information | B28: =IF('Adherence Review'!$B34="","Not Scored",IF('Adherence Review'!$B34="X","X","✔")) -> Not Scored | C28: Other cultural/heritage considerations (if known) | D28: ✔ = Includes information about race, socioeconomic class, religion, sexual orientation, ethnicity, nationality, linguistic, and/or geographic context (beyond the address of where services are occurring). Or, cultural/heritage considerations are noted as "unknown", "not applicable" or other similar indication is provided that indicates this information is not available or relevant to this person.
A29: Functional Behavioral Assessment (FBA) | B29: =IF('Adherence Review'!$B38="","Not Scored",IF('Adherence Review'!$B38="X","X","✔")) -> Not Scored | C29: The FBA methods include descriptive assessment and/or functional analysis | D29: ✔ = Descriptive assessment and/or functional analysis methods were used in the FBA, conducted or overseen by a qualified clinician
A30: Functional Behavioral Assessment (FBA) | B30: =IF('Adherence Review'!$B39="","Not Scored",IF('Adherence Review'!$B39="X","X","✔")) -> Not Scored | C30: The FBA methods used are described | D30: ✔ = The method, or methods for FBA are listed
A31: Functional Behavioral Assessment (FBA) | B31: =IF('Adherence Review'!$B40="","Not Scored",IF('Adherence Review'!$B40="X","X","✔")) -> Not Scored | C31: FBA conducted in location where services are occurring | D31: ✔ = The location of where the FBA was conducted is the same for at least 1 setting for where services are occurring
A32: Functional Behavioral Assessment (FBA) | B32: =IF('Adherence Review'!$B41="","Not Scored",IF('Adherence Review'!$B41="X","X","✔")) -> Not Scored | C32: Setting events/motivating operations | D32: ✔ = Setting events/motivating operations are generally listed, or listed specifically for at least 1 behavior targeted for decrease. May be noted specifically as "setting events" or the omnibus term "motivating operations" (or EOs/AOs), or may be counted as present if unconditioned motivating operations are listed as antecedents.
A33: Functional Behavioral Assessment (FBA) | B33: =IF('Adherence Review'!$B42="","Not Scored",IF('Adherence Review'!$B42="X","X","✔")) -> Not Scored | C33: Antecedents | D33: ✔ = The antecedents to challenging behavior are generally listed, or specifically listed for at least 1 behavior targeted for decrease
A34: Functional Behavioral Assessment (FBA) | B34: =IF('Adherence Review'!$B43="","Not Scored",IF('Adherence Review'!$B43="X","X","✔")) -> Not Scored | C34: Consequences | D34: ✔ = The maintaining consequence, or consequences to challenging behavior are generally listed, or specifically listed for at least 1 behavior targeted for decrease
A35: Functional Behavioral Assessment (FBA) | B35: =IF('Adherence Review'!$B44="","Not Scored",IF('Adherence Review'!$B44="X","X","✔")) -> Not Scored | C35: Data results and/or graphical displays | D35: ✔ = A graph or raw data are provided from at least one method from the FBA, and/or baseline data are provided
A36: Functional Behavioral Assessment (FBA) | B36: =IF('Adherence Review'!$B45="","Not Scored",IF('Adherence Review'!$B45="X","X","✔")) -> Not Scored | C36: FBA is current (since most recent shared planning meeting or statement of recent validity of function) | D36: ✔ = The FBA is no more than 1 year older than the date of the ISP, or there is a statement that indicates validity of the FBA that is more than 1 year old
A37: Functional Behavioral Assessment (FBA) | B37: =IF('Adherence Review'!$B46="","Not Scored",IF('Adherence Review'!$B46="X","X","✔")) -> Not Scored | C37: Non-operant conditions that influence behavior (if applicable) | D37: ✔ = Includes information about genetic abnormalities, medical conditions, and/or psychiatric or neurological dysfunctions specifically as contributors to challenging behavior (e.g. Prader-Willi, polydipsia, epilepsy). Additionally, respondents explicitly labeled as related to challenging behavior are included. Or, non-operant conditions are noted as "unknown", "not applicable" or other similar indication is provided that indicates this information is not available or relevant to this person.
A38: Hypothesized Functions | B38: =IF('Adherence Review'!$B50="","Not Scored",IF('Adherence Review'!$B50="X","X","✔")) -> Not Scored | C38: Hypothesized functions listed | D38: ✔ = For all behaviors targeted for decrease in the BSP, hypothesized function, or functions listed
A39: Hypothesized Functions | B39: =IF('Adherence Review'!$B51="","Not Scored",IF('Adherence Review'!$B51="X","X","✔")) -> Not Scored | C39: Functions match to accepted operant functions | D39: ✔ = For all behaviors with a hypothesized function, the hypothesized functions are accepted operant functions
A40: Behaviors Targeted for Decrease | B40: =IF('Adherence Review'!$B55="","Not Scored",IF('Adherence Review'!$B55="X","X","✔")) -> Not Scored | C40: Lists each behavior targeted for decrease | D40: ✔ = Provides a name for each behavior targeted for decrease (e.g. Aggression, Property Destruction). X = There are no names listed for behaviors targeted for decrease, or there are no behaviors targeted for decrease in the BSP.
...
