Workbook
Name CloumnTitle_Graphical_Displays_Analysis_Reviewer_Notes: 'Review Information'!#REF!
Name CloumnTitle_Graphical_Displays_Analysis_Reviewer_Notes: 'Adherence Review'!$C$103
Name ColumnTitle_Adherence_Review_Results: Definitions!#REF!
Name ColumnTitle_Antecedent_Interventions_Data_Entry: 'Review Information'!#REF!
Name ColumnTitle_Antecedent_Interventions_Data_Entry: 'Adherence Review'!$B$68
Name ColumnTitle_Appropriate_Signatures_Data_Entry: 'Review Information'!#REF!
Name ColumnTitle_Appropriate_Signatures_Data_Entry: 'Adherence Review'!$B$96
Name ColumnTitle_Appropriate_Signatures_Reviewer_Notes: 'Review Information'!#REF!
Name ColumnTitle_Appropriate_Signatures_Reviewer_Notes: 'Adherence Review'!$C$96
Name ColumnTitle_Behavior_Support_Plan_Information: 'Review Information'!$A$3
Name ColumnTitle_Behavior_Support_Plan_Information: 'Adherence Review'!#REF!
Name ColumnTitle_Behavior_Targeted_Decrease_Data_Entry: 'Review Information'!#REF!
Name ColumnTitle_Behavior_Targeted_Decrease_Data_Entry: 'Adherence Review'!$B$54
Name ColumnTitle_Behavior_Targeted_decrease_Reviewer_Notes: 'Review Information'!#REF!
Name ColumnTitle_Behavior_Targeted_decrease_Reviewer_Notes: 'Adherence Review'!$C$54
Name ColumnTitle_Behavior_Targeted_Increase_Data_Entry: 'Review Information'!#REF!
Name ColumnTitle_Behavior_Targeted_Increase_Data_Entry: 'Adherence Review'!$B$61
Name ColumnTitle_Behavior_Targeted_Increase_Reviewer_Notes: 'Review Information'!#REF!
Name ColumnTitle_Behavior_Targeted_Increase_Reviewer_Notes: 'Adherence Review'!$C$61
Name ColumnTitle_BSP_info_Data_Entry: 'Review Information'!$B$3
Name ColumnTitle_BSP_info_Data_Entry: 'Adherence Review'!#REF!
Name ColumnTitle_BSP_Info_Reviewer_Notes: 'Review Information'!#REF!
Name ColumnTitle_BSP_Info_Reviewer_Notes: 'Adherence Review'!#REF!
Name ColumnTitle_Consequence_Interventions_Data_Entry: 'Review Information'!#REF!
Name ColumnTitle_Consequence_Interventions_Data_Entry: 'Adherence Review'!$B$75
Name ColumnTitle_Consequence_Interventions_Reviewer_Notes: 'Review Information'!#REF!
Name ColumnTitle_Consequence_Interventions_Reviewer_Notes: 'Adherence Review'!$C$75
Name ColumnTitle_Content_Area__Antecedent_Interventions: 'Review Information'!#REF!
Name ColumnTitle_Content_Area__Antecedent_Interventions: 'Adherence Review'!$A$68
Name ColumnTitle_Content_Area__Appropriate_Signatures: 'Review Information'!#REF!
Name ColumnTitle_Content_Area__Appropriate_Signatures: 'Adherence Review'!$A$96
Name ColumnTitle_Content_Area__Behaviors_Targeted_for_Decrease: 'Review Information'!#REF!
Name ColumnTitle_Content_Area__Behaviors_Targeted_for_Decrease: 'Adherence Review'!$A$54
Name ColumnTitle_Content_Area__Behaviors_Targeted_for_Increase: 'Review Information'!#REF!
Name ColumnTitle_Content_Area__Behaviors_Targeted_for_Increase: 'Adherence Review'!$A$61
Name ColumnTitle_Content_Area__Consequence_Interventions: 'Review Information'!#REF!
Name ColumnTitle_Content_Area__Consequence_Interventions: 'Adherence Review'!$A$75
Name ColumnTitle_Content_Area__Demographics: 'Review Information'!#REF!
Name ColumnTitle_Content_Area__Demographics: 'Adherence Review'!$A$3
Name ColumnTitle_Content_Area__Functional_Behavioral_Assessment__FBA: 'Review Information'!#REF!
Name ColumnTitle_Content_Area__Functional_Behavioral_Assessment__FBA: 'Adherence Review'!$A$37
Name ColumnTitle_Content_Area__Graphical_Displays___Analysis: 'Review Information'!#REF!
Name ColumnTitle_Content_Area__Graphical_Displays___Analysis: 'Adherence Review'!$A$103
Name ColumnTitle_Content_Area__History_and_Rationale: 'Review Information'!#REF!
Name ColumnTitle_Content_Area__History_and_Rationale: 'Adherence Review'!$A$16
Name ColumnTitle_Content_Area__Hypothesized_Functions: 'Review Information'!#REF!
Name ColumnTitle_Content_Area__Hypothesized_Functions: 'Adherence Review'!$A$49
Name ColumnTitle_Content_Area__Person_Centered_Information: 'Review Information'!#REF!
Name ColumnTitle_Content_Area__Person_Centered_Information: 'Adherence Review'!$A$25
Name ColumnTitle_Content_Area__Plan_for_Training: 'Review Information'!#REF!
Name ColumnTitle_Content_Area__Plan_for_Training: 'Adherence Review'!$A$90
Name ColumnTitle_Demographics_Data_Entry: 'Review Information'!#REF!
Name ColumnTitle_Demographics_Data_Entry: 'Adherence Review'!$B$3
Name ColumnTitle_Demographics_Reviewer_Notes: 'Review Information'!#REF!
Name ColumnTitle_Demographics_Reviewer_Notes: 'Adherence Review'!$C$3
Name ColumnTitle_FBA_Data_Entry: 'Review Information'!#REF!
Name ColumnTitle_FBA_Data_Entry: 'Adherence Review'!$B$37
Name ColumnTitle_FBA_Reviewer_Notes: 'Review Information'!#REF!
Name ColumnTitle_FBA_Reviewer_Notes: 'Adherence Review'!$C$37
Name ColumnTitle_Graphical_Displays_Analysis_Data_Entry: 'Review Information'!#REF!

Sheet Review Information
A1: Behavior Support Plan Adherence Review Instrument (BSPARI)
A2: Enter information in column B.
A3: Content Area: Behavior Support Plan Information | B3: Data Entry
A4: Individual's name:
A5: Clinician & Credentials:
A6: Clinician contact:
A7: Date of review:
A8: Support Coordinator:
A9: Date of review w/ clinician:
A10: DBHDS Reviewer:
A11: Authorization type:
A12: Date of current plan:
A13: Authorization start date:
A14: CSB:
A15: Region:
... A18: End of worksheet

Sheet Adherence Review
A1: Behavior Support Plan Adherence Review Instrument (BSPARI) | B1: Name: | C1: =IF('Review Information'!B4<>"",'Review Information'!B4,"Please enter individual's name within the Review Information worksheet") -> Please enter individual's name within the Review Information worksheet
A2: Review behavior support plan documents and enter findings in column B.
A3: Content Area: Demographics | B3: Data Entry | C3: Reviewer Notes
A4: Individual’s name
A5: Date of birth or age
A6: Gender identification
A7: Medical/behavioral health diagnostic information
A8: Current living situation & location where the behavior support plan (BSP) is being implemented
A9: Medicaid ID
A10: Medications (if known)
A11: Legal status (e.g., authority to consent to plan)
A12: Date of initial plan and revisions (and nature of revisions)
A13: Authoring clinician’s name/credentials/contact information
A14: Points for demographic content area: | B14: =IF(AND($B$4="✔",$B$7="✔",$B$11="✔",$B$12="✔",$B$13="✔"),1,0) -> 0
A15: End of Demographics section,continue to History and Rationale.
A16: Content Area: History and Rationale | B16: Data Entry | C16: Reviewer Notes
A17: Current and/or relevant historical info about this person and their life
A18: The reason, rationale for BSP/necessity for intervention
A19: Dangerous behavior: topographies, intensities, risks and/or negative outcomes
A20: Risk and benefits related to prescribed behavioral programming
A21: Known history of previous services and impact on behavior
A22: Trauma history
A23: Points for history and rationale content area: | B23: =IF(AND($B$17="✔",$B$18="✔",$B$19="✔",$B$20="✔"),2,IF(AND($B$17="✔",$B$18="✔",$B$19="✔",$B$20<>"✔"),1,0)) -> 0
A24: End of History & Rationale section, continue to Person Centered Information.
A25: Content Area: Person Centered Information | B25: Data Entry | C25: Reviewer Notes
A26: Individual’s communication modality
A27: Routines/current schedule
A28: Individual and guardian’s participation
A29: What activities are enjoyed and sought by the individual
A30: Preference assessment information/results
A31: Individual’s strengths and positive contributions
A32: Particular aversions/dislikes
A33: Who in the individual’s life is especially preferred
A34: Other cultural/heritage considerations (if known)
A35: Points for person centered information content area: | B35: =IF(AND($B$26="✔",$B$27="✔",$B$28="✔",$B$29="✔",$B$31="✔",$B$32="✔",$B$33="✔"),3,IF(AND($B$26="✔",$B$27="✔",$B$28="✔",$B$29="✔"),2,IF(AND($B$26="✔",$B$27="✔",$B$28<>"✔",$B$29="✔"),1,0))) -> 0
A36: End of Person Centered Information section, continue to FBA below.
A37: Content Area: Functional Behavioral Assessment (FBA) | B37: Data Entry | C37: Reviewer Notes
A38: The FBA methods include descriptive assessment and/or functional analysis
A39: The FBA methods used are described
A40: FBA conducted in location where services are occurring
A41: Setting events/motivating operations
A42: Antecedents
A43: Consequences
A44: Data results and/or graphical displays
A45: FBA is current (since most recent shared planning meeting or statement of recent validity of function)
A46: Non-operant conditions that influence behavior (if applicable)
A47: Points for FBA content area: | B47: =IF(AND($B$38<>"✔",COUNTIF($B$39:$B$45,"✔")>0),1,IF(AND($B$38="✔",COUNTIF($B$39:$B$45,"✔")=0),0,COUNTIF($B$38:$B$45,"✔"))) -> 0
A48: End of FBA section, continue to Hypothesized Functions below.
A49: Content Area: Hypothesized Functions | B49: Data Entry | C49: Reviewer Notes
A50: Hypothesized functions listed
A51: Functions match to accepted operant functions
A52: Points for hypothesized functions content area: | B52: =IF(AND($B$50="✔",$B$51="✔"),2,IF($B$51="✔",1,0)) -> 0
A53: End of Hypothesized Functions section, continue to Behaviors Targeted for Decrease.
A54: Content Area: Behaviors Targeted for Decrease | B54: Data Entry | C54: Reviewer Notes
A55: Lists each behavior targeted for decrease
A56: Operational definition for each behavior targeted for decrease
A57: Method of measurement for each behavior targeted for decrease
A58: Inclusion in definition of examples and/or non-examples for each behavior targeted for decrease
A59: Points for behaviors targeted for decrease content area: | B59: =IF(COUNTIF($B$55:$B$58,"✔")>3,3,IF(COUNTIF($B$55:$B$57,"✔")>2,2,IF(COUNTIF($B$55:$B$56,"✔")=2,1,0))) -> 0
A60: End of Behaviors Targeted for Decrease section, continue to Behaviors Targeted for Increase.
A61: Content Area: Behaviors Targeted for Increase | B61: Data Entry | C61: Reviewer Notes
A62: Lists each behavior targeted for increase
A63: Operational definition for each behavior targeted for increase
A64: Method of measurement for each behavior targeted for increase
A65: Inclusion in definition of examples and/or non-examples for each behavior targeted for increase
A66: Points for behaviors targeted for increase content area: | B66: =IF(COUNTIF($B$62:$B$65,"✔")>3,3,IF(COUNTIF($B$62:$B$64,"✔")>2,2,IF(COUNTIF($B$62:$B$63,"✔")=2,1,0))) -> 0
A67: End of Behaviors Targeted for Increase section, continue to Antecedent Interventions.
A68: Content Area: Antecedent Interventions | B68: Data Entry | C68: Reviewer Notes
A69: Tactics promote environment in which functionally equivalent replacement behavior (FERB) and/or desirable behavior acquisition will occur
A70: Tactics that address setting events and/or motivating operations (MOs)
A71: Tactics/de-escalation strategies that address immediate antecedents and/or precursors
A72: Strategies that describe stimuli that should or should not be present
A73: Points for antecedent interventions content area: | B73: =COUNTIF($B$69:$B$72,"✔") -> 0
A74: End of Antecedent Interventions section, continue to Consequence Interventions.
A75: Content Area: Consequence Interventions | B75: Data Entry | C75: Reviewer Notes
A76: Tactics incorporate a function-based treatment approach for challenging behavior
A77: Tactics use the least-restrictive approach for challenging behavior
A78: Tactics minimize reinforcement for challenging behavior
A79: Inclusion of preferences/reinforcers, schedule of reinforcement, and/or expectations for learning environment/materials/teaching conditions to increase desired behavior
A80: Points for consequence interventions content area: | B80: =COUNTIF($B$76:$B$79,"✔") -> 0
A81: End of Consequence Interventions section, continue Safety & Crisis Guidelines.
A82: Content Area: Safety & Crisis Guidelines | B82: Data Entry | C82: Reviewer Notes
A83: Safety gear outlined
A84: Crisis protocol or where to obtain the protocol
A85: Describes supports needed to ensure safety of person and others
A86: If restraint or time out is included, notes debriefing procedures
A87: If restraint or time out is included, notes criteria for release or refers to provider policy and procedures
A88: Points for safety & crisis guidelines content area: | B88: =IF(AND($B$85="✔",$B$86<>"X",$B$87<>"X"),1,0) -> 0
A89: End of Safety & Crisis Guidelines section, continue to Plan for Training below.
A90: Content Area: Plan for Training | B90: Data Entry | C90: Reviewer Notes
A91: Outlines a plan for training staff, family, or other supporters that notes clinician obtaining and reviewing data
A92: Plan incorporates a Behavior Skills Training (BST) approach
A93: Training record (or plan for training based on authorization type) is available in WaMS related to recent review period
A94: Points for plan for training content area: | B94: =IF(AND($B$91="✔",$B$92<>"✔",$B$93="✔"),1,COUNTIF($B$91:$B$93,"✔")) -> 0
A95: End of Plan for Training section, continue to Appropriate Signatures.
A96: Content Area: Appropriate Signatures | B96: Data Entry | C96: Reviewer Notes
A97: Plan is signed by individual or legal guardian
A98: Signature for consent includes date
A99: Contact information for guardian or individual is present
A100: If a restrictive component is included, updated consent is included and coincides with when restriction began
...

Sheet Resources
A1: BSPARI Resources
A2: Review the following resources that correspond with required elements.
A3: BSP content area and minimum required elements | B3: Hyper link for recommended resource
A4: Demographics | B4: Virginia Law 12VAC30-122-550. Therapeutic consultation service. | C4: Adherence Review Results
A5: Individual’s name (1 of 2) | B5: Toward an understanding of the essential components of behavior analytic service plans | C5: =IF('Adherence Review'!$B$4="","Not Scored",IF('Adherence Review'!$B$4="X","X","✔")) -> Not Scored | P5: 21 | Q5: =IF('Adherence Review'!$B$4="","Not Scored",IF('Adherence Review'!$B$4="X","X","✔")) -> Not Scored
A6: Individual’s name (2 of 2) | B6: Virginia DBHDS/DMAS Practice Guidelines for Behavior Support Plans | C6: =IF('Adherence Review'!$B$4="","Not Scored",IF('Adherence Review'!$B$4="X","X","✔")) -> Not Scored | Q6: =IF('Adherence Review'!$B$4="","Not Scored",IF('Adherence Review'!$B$4="X","X","✔")) -> Not Scored
A7: Date of birth or age (1 of 2) | B7: Toward an understanding of the essential components of behavior analytic service plans | C7: =IF('Adherence Review'!$B$5="","Not Scored",IF('Adherence Review'!$B$5="X","X","✔")) -> Not Scored | P7: 22 | Q7: =IF('Adherence Review'!$B$5="","Not Scored",IF('Adherence Review'!$B$5="X","X","✔")) -> Not Scored
A8: Date of birth or age (2 of 2) | B8: Virginia DBHDS/DMAS Practice Guidelines for Behavior Support Plans | C8: =IF('Adherence Review'!$B$5="","Not Scored",IF('Adherence Review'!$B$5="X","X","✔")) -> Not Scored | Q8: =IF('Adherence Review'!$B$5="","Not Scored",IF('Adherence Review'!$B$5="X","X","✔")) -> Not Scored
A9: Gender identification (1 of 2) | B9: A self-assessment tool for cultivating affirming practices with transgender and gender-nonconforming (TGNC) clients, supervisees, students, and colleagues. | C9: =IF('Adherence Review'!$B$6="","Not Scored",IF('Adherence Review'!$B$6="X","X","✔")) -> Not Scored | P9: 23 | Q9: =IF('Adherence Review'!$B$6="","Not Scored",IF('Adherence Review'!$B$6="X","X","✔")) -> Not Scored
A10: Gender identification (2 of 2) | B10: Virginia DBHDS/DMAS Practice Guidelines for Behavior Support Plans | C10: =IF('Adherence Review'!$B$6="","Not Scored",IF('Adherence Review'!$B$6="X","X","✔")) -> Not Scored | Q10: =IF('Adherence Review'!$B$6="","Not Scored",IF('Adherence Review'!$B$6="X","X","✔")) -> Not Scored
A11: Medical/behavioral health diagnostic information (1 of 1) | B11: Virginia DBHDS/DMAS Practice Guidelines for Behavior Support Plans | C11: =IF('Adherence Review'!$B$7="","Not Scored",IF('Adherence Review'!$B$7="X","X","✔")) -> Not Scored | P11: 24 | Q11: =IF('Adherence Review'!$B$7="","Not Scored",IF('Adherence Review'!$B$7="X","X","✔")) -> Not Scored
A12: Current living situation & location where the behavior support plan (BSP) is being implemented (1 of 1) | B12: Virginia DBHDS/DMAS Practice Guidelines for Behavior Support Plans | C12: =IF('Adherence Review'!$B$8="","Not Scored",IF('Adherence Review'!$B$8="X","X","✔")) -> Not Scored | P12: 25 | Q12: =IF('Adherence Review'!$B$8="","Not Scored",IF('Adherence Review'!$B$8="X","X","✔")) -> Not Scored
A13: Medicaid ID (1 of 1) | B13: Virginia DBHDS/DMAS Practice Guidelines for Behavior Support Plans | C13: =IF('Adherence Review'!$B$9="","Not Scored",IF('Adherence Review'!$B$9="X","X","✔")) -> Not Scored | P13: 26 | Q13: =IF('Adherence Review'!$B$9="","Not Scored",IF('Adherence Review'!$B$9="X","X","✔")) -> Not Scored
A14: Medications (if known) (1 of 1) | B14: Board certified behavior analysts and psychotropic medications: slipshod training, inconsistent involvement, and reason for hope | C14: =IF('Adherence Review'!$B$10="","Not Scored",IF('Adherence Review'!$B$10="X","X","✔")) -> Not Scored | P14: 27 | Q14: =IF('Adherence Review'!$B$10="","Not Scored",IF('Adherence Review'!$B$10="X","X","✔")) -> Not Scored
A15: Medications (if known) (1 of 1) | B15: Virginia DBHDS/DMAS Practice Guidelines for Behavior Support Plans | C15: =IF('Adherence Review'!$B$10="","Not Scored",IF('Adherence Review'!$B$10="X","X","✔")) -> Not Scored | Q15: =IF('Adherence Review'!$B$10="","Not Scored",IF('Adherence Review'!$B$10="X","X","✔")) -> Not Scored
A16: Legal status (e.g., authority to consent to plan) (1 of 1) | B16: Virginia DBHDS/DMAS Practice Guidelines for Behavior Support Plans | C16: =IF('Adherence Review'!$B$11="","Not Scored",IF('Adherence Review'!$B$11="X","X","✔")) -> Not Scored | P16: 28 | Q16: =IF('Adherence Review'!$B$11="","Not Scored",IF('Adherence Review'!$B$11="X","X","✔")) -> Not Scored
A17: Date of initial plan and revisions (and nature of revisions) (1 of 1) | B17: Virginia DBHDS/DMAS Practice Guidelines for Behavior Support Plans | C17: =IF('Adherence Review'!$B$12="","Not Scored",IF('Adherence Review'!$B$12="X","X","✔")) -> Not Scored | P17: 29 | Q17: =IF('Adherence Review'!$B$12="","Not Scored",IF('Adherence Review'!$B$12="X","X","✔")) -> Not Scored
A18: Authoring clinician’s name/credentials/contact information (1 of 1) | B18: Virginia DBHDS/DMAS Practice Guidelines for Behavior Support Plans | C18: =IF('Adherence Review'!$B$13="","Not Scored",IF('Adherence Review'!$B$13="X","X","✔")) -> Not Scored | P18: 30 | Q18: =IF('Adherence Review'!$B$13="","Not Scored",IF('Adherence Review'!$B$13="X","X","✔")) -> Not Scored
A19: History and Rationale | B19: Virginia Law 12VAC30-122-550. Therapeutic consultation service. | C19: Adherence Review Results
A20: Current and/or relevant historical info about this person and their life (1 of 1) | B20: Virginia DBHDS/DMAS Practice Guidelines for Behavior Support Plans | C20: =IF('Adherence Review'!$B$17="","Not Scored",IF('Adherence Review'!$B$17="X","X","✔")) -> Not Scored | P20: 36 | Q20: =IF('Adherence Review'!$B$17="","Not Scored",IF('Adherence Review'!$B$17="X","X","✔")) -> Not Scored
A21: The reason, rationale for BSP/necessity for intervention (1 of 2) | B21: Elements of behavior support plans: a technical brief | C21: =IF('Adherence Review'!$B$18="","Not Scored",IF('Adherence Review'!$B$18="X","X","✔")) -> Not Scored | P21: 37 | Q21: =IF('Adherence Review'!$B$18="","Not Scored",IF('Adherence Review'!$B$18="X","X","✔")) -> Not Scored
A22: The reason, rationale for BSP/necessity for intervention (2 of 2) | B22: Virginia DBHDS/DMAS Practice Guidelines for Behavior Support Plans | C22: =IF('Adherence Review'!$B$18="","Not Scored",IF('Adherence Review'!$B$18="X","X","✔")) -> Not Scored | Q22: =IF('Adherence Review'!$B$18="","Not Scored",IF('Adherence Review'!$B$18="X","X","✔")) -> Not Scored
A23: Dangerous behavior: topographies, intensities, risks and/or negative outcomes (1 of 1) | B23: Virginia DBHDS/DMAS Practice Guidelines for Behavior Support Plans | C23: =IF('Adherence Review'!$B$19="","Not Scored",IF('Adherence Review'!$B$19="X","X","✔")) -> Not Scored | P23: 38 | Q23: =IF('Adherence Review'!$B$19="","Not Scored",IF('Adherence Review'!$B$19="X","X","✔")) -> Not Scored
A24: Risk and benefits related to prescribed behavioral programming (1 of 2) | B24: Toward the development of a functional analysis risk assessment decision tool | C24: =IF('Adherence Review'!$B$20="","Not Scored",IF('Adherence Review'!$B$20="X","X","✔")) -> Not Scored | P24: 39 | Q24: =IF('Adherence Review'!$B$20="","Not Scored",IF('Adherence Review'!$B$20="X","X","✔")) -> Not Scored
A25: Risk and benefits related to prescribed behavioral programming (2 of 2) | B25: Toward an understanding of the essential components of behavior analytic service plans | C25: =IF('Adherence Review'!$B$20="","Not Scored",IF('Adherence Review'!$B$20="X","X","✔")) -> Not Scored | Q25: =IF('Adherence Review'!$B$20="","Not Scored",IF('Adherence Review'!$B$20="X","X","✔")) -> Not Scored
A26: Known history of previous services and impact on behavior (1 of 1) | B26: Virginia DBHDS/DMAS Practice Guidelines for Behavior Support Plans | C26: =IF('Adherence Review'!$B$21="","Not Scored",IF('Adherence Review'!$B$21="X","X","✔")) -> Not Scored | P26: 40 | Q26: =IF('Adherence Review'!$B$21="","Not Scored",IF('Adherence Review'!$B$21="X","X","✔")) -> Not Scored
A27: Trauma history (1 of 1) | B27: Integrating a trauma-informed approach within a PBIS framework | C27: =IF('Adherence Review'!$B$22="","Not Scored",IF('Adherence Review'!$B$22="X","X","✔")) -> Not Scored | P27: 41 | Q27: =IF('Adherence Review'!$B$22="","Not Scored",IF('Adherence Review'!$B$22="X","X","✔")) -> Not Scored
A28: Trauma history (1 of 4) | B28: Toward trauma-informed applications of behavior analysis | C28: =IF('Adherence Review'!$B$22="","Not Scored",IF('Adherence Review'!$B$22="X","X","✔")) -> Not Scored | Q28: =IF('Adherence Review'!$B$22="","Not Scored",IF('Adherence Review'!$B$22="X","X","✔")) -> Not Scored
A29: Trauma history (2 of 4) | B29: SAMHSA’s concept of trauma and guidance for a trauma- informed approach | C29: =IF('Adherence Review'!$B$22="","Not Scored",IF('Adherence Review'!$B$22="X","X","✔")) -> Not Scored | Q29: =IF('Adherence Review'!$B$22="","Not Scored",IF('Adherence Review'!$B$22="X","X","✔")) -> Not Scored
A30: Trauma history (3 of 4) | B30: Implementing culturally responsive and trauma-informed practices with checklists and goal setting | C30: =IF('Adherence Review'!$B$22="","Not Scored",IF('Adherence Review'!$B$22="X","X","✔")) -> Not Scored | Q30: =IF('Adherence Review'!$B$22="","Not Scored",IF('Adherence Review'!$B$22="X","X","✔")) -> Not Scored
A31: Trauma history (4 of 4) | B31: Trauma-informed care (TIC) of persons with intellectual and developmental disabilities: A pilot survey | C31: =IF('Adherence Review'!$B$22="","Not Scored",IF('Adherence Review'!$B$22="X","X","✔")) -> Not Scored | Q31: =IF('Adherence Review'!$B$22="","Not Scored",IF('Adherence Review'!$B$22="X","X","✔")) -> Not Scored
A32: Person Centered Information | B32: Virginia Law 12VAC30-122-550. Therapeutic consultation service. | C32: Adherence Review Results
A33: Individual’s communication modality (1 of 5) | B33: Verbal behavior analysis: a program of research in the induction and expansion of complex verbal behavior | C33: =IF('Adherence Review'!$B$26="","Not Scored",IF('Adherence Review'!$B$26="X","X","✔")) -> Not Scored | P33: 47 | Q33: =IF('Adherence Review'!$B$26="","Not Scored",IF('Adherence Review'!$B$26="X","X","✔")) -> Not Scored
A34: Individual’s communication modality (2 of 5) | B34: An analysis of maintenance following functional communication training | C34: =IF('Adherence Review'!$B$26="","Not Scored",IF('Adherence Review'!$B$26="X","X","✔")) -> Not Scored | Q34: =IF('Adherence Review'!$B$26="","Not Scored",IF('Adherence Review'!$B$26="X","X","✔")) -> Not Scored
A35: Individual’s communication modality (3 of 5) | B35: Elements of behavior support plans: a technical brief. Exceptionality | C35: =IF('Adherence Review'!$B$26="","Not Scored",IF('Adherence Review'!$B$26="X","X","✔")) -> Not Scored | Q35: =IF('Adherence Review'!$B$26="","Not Scored",IF('Adherence Review'!$B$26="X","X","✔")) -> Not Scored
A36: Individual’s communication modality (4 of 5) | B36: Essential 10: Essential Components of Behavior Intervention Plans | C36: =IF('Adherence Review'!$B$26="","Not Scored",IF('Adherence Review'!$B$26="X","X","✔")) -> Not Scored | Q36: =IF('Adherence Review'!$B$26="","Not Scored",IF('Adherence Review'!$B$26="X","X","✔")) -> Not Scored
A37: Individual’s communication modality (5 of 5) | B37: Virginia DBHDS/DMAS Practice Guidelines for Behavior Support Plans | C37: =IF('Adherence Review'!$B$26="","Not Scored",IF('Adherence Review'!$B$26="X","X","✔")) -> Not Scored | Q37: =IF('Adherence Review'!$B$26="","Not Scored",IF('Adherence Review'!$B$26="X","X","✔")) -> Not Scored
A38: Routines/current schedule (1 of 5) | B38: Person-centered planning: analysis of research and effectiveness. Intellectual and Developmental Disabilities | C38: =IF('Adherence Review'!$B$27="","Not Scored",IF('Adherence Review'!$B$27="X","X","✔")) -> Not Scored | P38: 48 | Q38: =IF('Adherence Review'!$B$27="","Not Scored",IF('Adherence Review'!$B$27="X","X","✔")) -> Not Scored
A39: Routines/current schedule (2 of 5) | B39: Positive behavior support for individuals with behavior challenges. Behavior Analysis in Practice | C39: =IF('Adherence Review'!$B$27="","Not Scored",IF('Adherence Review'!$B$27="X","X","✔")) -> Not Scored | Q39: =IF('Adherence Review'!$B$27="","Not Scored",IF('Adherence Review'!$B$27="X","X","✔")) -> Not Scored
A40: Routines/current schedule (3 of 5) | B40: Elements of behavior support plans: a technical brief. Exceptionality | C40: =IF('Adherence Review'!$B$27="","Not Scored",IF('Adherence Review'!$B$27="X","X","✔")) -> Not Scored | Q40: =IF('Adherence Review'!$B$27="","Not Scored",IF('Adherence Review'!$B$27="X","X","✔")) -> Not Scored
A41: Routines/current schedule (4 of 5) | B41: Longitudinal analysis of the impact and cost of person-centered planning for people with intellectual disabilities in England | C41: =IF('Adherence Review'!$B$27="","Not Scored",IF('Adherence Review'!$B$27="X","X","✔")) -> Not Scored | Q41: =IF('Adherence Review'!$B$27="","Not Scored",IF('Adherence Review'!$B$27="X","X","✔")) -> Not Scored
A42: Routines/current schedule (5 of 5) | B42: Facilitating general education participation for students with behavior problems by linking positive behavior supports and person-centered planning | C42: =IF('Adherence Review'!$B$27="","Not Scored",IF('Adherence Review'!$B$27="X","X","✔")) -> Not Scored | Q42: =IF('Adherence Review'!$B$27="","Not Scored",IF('Adherence Review'!$B$27="X","X","✔")) -> Not Scored
A43: Individual and guardian’s participation (1 of 5) | B43: Positive behavior support for individuals with behavior challenges. Behavior Analysis in Practice | C43: =IF('Adherence Review'!$B$28="","Not Scored",IF('Adherence Review'!$B$28="X","X","✔")) -> Not Scored | P43: 49 | Q43: =IF('Adherence Review'!$B$28="","Not Scored",IF('Adherence Review'!$B$28="X","X","✔")) -> Not Scored
A44: Individual and guardian’s participation (2 of 5) | B44: Toward a further understanding of assent | C44: =IF('Adherence Review'!$B$28="","Not Scored",IF('Adherence Review'!$B$28="X","X","✔")) -> Not Scored | Q44: =IF('Adherence Review'!$B$28="","Not Scored",IF('Adherence Review'!$B$28="X","X","✔")) -> Not Scored
A45: Individual and guardian’s participation (3 of 5) | B45: Discrepancies between treatment preference and effectiveness | C45: =IF('Adherence Review'!$B$28="","Not Scored",IF('Adherence Review'!$B$28="X","X","✔")) -> Not Scored | Q45: =IF('Adherence Review'!$B$28="","Not Scored",IF('Adherence Review'!$B$28="X","X","✔")) -> Not Scored
A46: Individual and guardian’s participation (4 of 5) | B46: The effect of person centered planning activities on the IEP/transition planning process | C46: =IF('Adherence Review'!$B$28="","Not Scored",IF('Adherence Review'!$B$28="X","X","✔")) -> Not Scored | Q46: =IF('Adherence Review'!$B$28="","Not Scored",IF('Adherence Review'!$B$28="X","X","✔")) -> Not Scored
A47: Individual and guardian’s participation (5 of 5) | B47: Virginia Law 12VAC30-122-550. Therapeutic consultation service. | C47: =IF('Adherence Review'!$B$28="","Not Scored",IF('Adherence Review'!$B$28="X","X","✔")) -> Not Scored | Q47: =IF('Adherence Review'!$B$28="","Not Scored",IF('Adherence Review'!$B$28="X","X","✔")) -> Not Scored
A48: What activities are enjoyed and sought by the individual (1 of 3) | B48: Person-centered planning: analysis of research and effectiveness. Intellectual and Developmental Disabilities | C48: =IF('Adherence Review'!$B$29="","Not Scored",IF('Adherence Review'!$B$29="X","X","✔")) -> Not Scored | P48: 50 | Q48: =IF('Adherence Review'!$B$29="","Not Scored",IF('Adherence Review'!$B$29="X","X","✔")) -> Not Scored
A49: What activities are enjoyed and sought by the individual (2 of 3) | B49: Facilitating general education participation for students with behavior problems by linking positive behavior supports and person-centered planning | C49: =IF('Adherence Review'!$B$29="","Not Scored",IF('Adherence Review'!$B$29="X","X","✔")) -> Not Scored | Q49: =IF('Adherence Review'!$B$29="","Not Scored",IF('Adherence Review'!$B$29="X","X","✔")) -> Not Scored
A50: What activities are enjoyed and sought by the individual (3 of 3) | B50: Listen learn act | C50: =IF('Adherence Review'!$B$29="","Not Scored",IF('Adherence Review'!$B$29="X","X","✔")) -> Not Scored | Q50: =IF('Adherence Review'!$B$29="","Not Scored",IF('Adherence Review'!$B$29="X","X","✔")) -> Not Scored
A51: Preference assessment information/results (1 of 8) | B51: Evaluation of a multiple stimulus presentation format for assessing reinforcer preferences | C51: =IF('Adherence Review'!$B$30="","Not Scored",IF('Adherence Review'!$B$30="X","X","✔")) -> Not Scored | P51: 51 | Q51: =IF('Adherence Review'!$B$30="","Not Scored",IF('Adherence Review'!$B$30="X","X","✔")) -> Not Scored
A52: Preference assessment information/results (2 of 8) | B52: Integrating caregiver report with a systematic choice assessment | C52: =IF('Adherence Review'!$B$30="","Not Scored",IF('Adherence Review'!$B$30="X","X","✔")) -> Not Scored | Q52: =IF('Adherence Review'!$B$30="","Not Scored",IF('Adherence Review'!$B$30="X","X","✔")) -> Not Scored
A53: Preference assessment information/results (3 of 8) | B53: A comparison of two approaches for identifying reinforcers for persons with severe and profound disabilities | C53: =IF('Adherence Review'!$B$30="","Not Scored",IF('Adherence Review'!$B$30="X","X","✔")) -> Not Scored | Q53: =IF('Adherence Review'!$B$30="","Not Scored",IF('Adherence Review'!$B$30="X","X","✔")) -> Not Scored
A54: Preference assessment information/results (4 of 8) | B54: Assessing preferences of individuals with developmental disabilities: a survey of current practices | C54: =IF('Adherence Review'!$B$30="","Not Scored",IF('Adherence Review'!$B$30="X","X","✔")) -> Not Scored | Q54: =IF('Adherence Review'!$B$30="","Not Scored",IF('Adherence Review'!$B$30="X","X","✔")) -> Not Scored
A55: Preference assessment information/results (5 of 8) | B55: Embedded evaluation of preferences sampled from person-centered plans for people with profound multiple disabilities | C55: =IF('Adherence Review'!$B$30="","Not Scored",IF('Adherence Review'!$B$30="X","X","✔")) -> Not Scored | Q55: =IF('Adherence Review'!$B$30="","Not Scored",IF('Adherence Review'!$B$30="X","X","✔")) -> Not Scored
A56: Preference assessment information/results (6 of 8) | B56: Evaluating the predictive validity of a single stimulus engagement preference assessment | C56: =IF('Adherence Review'!$B$30="","Not Scored",IF('Adherence Review'!$B$30="X","X","✔")) -> Not Scored | Q56: =IF('Adherence Review'!$B$30="","Not Scored",IF('Adherence Review'!$B$30="X","X","✔")) -> Not Scored
A57: Preference assessment information/results (7 of 8) | B57: Assessment of stimulus preference and reinforcer value with profoundly retarded individuals | C57: =IF('Adherence Review'!$B$30="","Not Scored",IF('Adherence Review'!$B$30="X","X","✔")) -> Not Scored | Q57: =IF('Adherence Review'!$B$30="","Not Scored",IF('Adherence Review'!$B$30="X","X","✔")) -> Not Scored
A58: Preference assessment information/results (8 of 8) | B58: Evaluation of a brief preference assessment | C58: =IF('Adherence Review'!$B$30="","Not Scored",IF('Adherence Review'!$B$30="X","X","✔")) -> Not Scored | Q58: =IF('Adherence Review'!$B$30="","Not Scored",IF('Adherence Review'!$B$30="X","X","✔")) -> Not Scored
A59: Individual’s strengths and positive contributions (1 of 5) | B59: Person-centered planning: analysis of research and effectiveness. | C59: =IF('Adherence Review'!$B$31="","Not Scored",IF('Adherence Review'!$B$31="X","X","✔")) -> Not Scored | P59: 52 | Q59: =IF('Adherence Review'!$B$31="","Not Scored",IF('Adherence Review'!$B$31="X","X","✔")) -> Not Scored
A60: Individual’s strengths and positive contributions (2 of 5) | B60: Elements of behavior support plans: a technical brief. | C60: =IF('Adherence Review'!$B$31="","Not Scored",IF('Adherence Review'!$B$31="X","X","✔")) -> Not Scored | Q60: =IF('Adherence Review'!$B$31="","Not Scored",IF('Adherence Review'!$B$31="X","X","✔")) -> Not Scored
A61: Individual’s strengths and positive contributions (3 of 5) | B61: Facilitating general education participation for students with behavior problems by linking positive behavior supports and person-centered planning | C61: =IF('Adherence Review'!$B$31="","Not Scored",IF('Adherence Review'!$B$31="X","X","✔")) -> Not Scored | Q61: =IF('Adherence Review'!$B$31="","Not Scored",IF('Adherence Review'!$B$31="X","X","✔")) -> Not Scored
A62: Individual’s strengths and positive contributions (4 of 5) | B62: Longitudinal analysis of the impact and cost of person-centered planning for people with intellectual disabilities in England | C62: =IF('Adherence Review'!$B$31="","Not Scored",IF('Adherence Review'!$B$31="X","X","✔")) -> Not Scored | Q62: =IF('Adherence Review'!$B$31="","Not Scored",IF('Adherence Review'!$B$31="X","X","✔")) -> Not Scored
A63: Individual’s strengths and positive contributions (5 of 5) | B63: Listen learn act | C63: =IF('Adherence Review'!$B$31="","Not Scored",IF('Adherence Review'!$B$31="X","X","✔")) -> Not Scored | Q63: =IF('Adherence Review'!$B$31="","Not Scored",IF('Adherence Review'!$B$31="X","X","✔")) -> Not Scored
A64: Particular aversions/dislikes (1 of 2) | B64: Person-centered planning: analysis of research and effectiveness. | C64: =IF('Adherence Review'!$B$32="","Not Scored",IF('Adherence Review'!$B$32="X","X","✔")) -> Not Scored | P64: 53 | Q64: =IF('Adherence Review'!$B$32="","Not Scored",IF('Adherence Review'!$B$32="X","X","✔")) -> Not Scored
A65: Particular aversions/dislikes (2 of 2) | B65: Facilitating general education participation for students with behavior problems by linking positive behavior supports and person-centered planning | C65: =IF('Adherence Review'!$B$32="","Not Scored",IF('Adherence Review'!$B$32="X","X","✔")) -> Not Scored | Q65: =IF('Adherence Review'!$B$32="","Not Scored",IF('Adherence Review'!$B$32="X","X","✔")) -> Not Scored
A66: Who in the individual’s life is especially preferred (1 of 4) | B66: Positive behavior supports in general education settings: combining a person centered planning and functional analysis | C66: =IF('Adherence Review'!$B$33="","Not Scored",IF('Adherence Review'!$B$33="X","X","✔")) -> Not Scored | P66: 54 | Q66: =IF('Adherence Review'!$B$33="","Not Scored",IF('Adherence Review'!$B$33="X","X","✔")) -> Not Scored
A67: Who in the individual’s life is especially preferred (2 of 4) | B67: Person-centered planning: analysis of research and effectiveness. | C67: =IF('Adherence Review'!$B$33="","Not Scored",IF('Adherence Review'!$B$33="X","X","✔")) -> Not Scored | Q67: =IF('Adherence Review'!$B$33="","Not Scored",IF('Adherence Review'!$B$33="X","X","✔")) -> Not Scored
A68: Who in the individual’s life is especially preferred (3 of 4) | B68: Facilitating general education participation for students with behavior problems by linking positive behavior supports and person-centered planning | C68: =IF('Adherence Review'!$B$33="","Not Scored",IF('Adherence Review'!$B$33="X","X","✔")) -> Not Scored | Q68: =IF('Adherence Review'!$B$33="","Not Scored",IF('Adherence Review'!$B$33="X","X","✔")) -> Not Scored
A69: Who in the individual’s life is especially preferred (4 of 4) | B69: Quality of rapport as a setting event for problem behavior: assessment and intervention | C69: =IF('Adherence Review'!$B$33="","Not Scored",IF('Adherence Review'!$B$33="X","X","✔")) -> Not Scored | Q69: =IF('Adherence Review'!$B$33="","Not Scored",IF('Adherence Review'!$B$33="X","X","✔")) -> Not Scored
A70: Other cultural/heritage considerations (if known) (1 of 5) | B70: Developing the cultural awareness skills of behavior analysts | C70: =IF('Adherence Review'!$B$34="","Not Scored",IF('Adherence Review'!$B$34="X","X","✔")) -> Not Scored | P70: 55 | Q70: =IF('Adherence Review'!$B$34="","Not Scored",IF('Adherence Review'!$B$34="X","X","✔")) -> Not Scored
A71: Other cultural/heritage considerations (if known) (2 of 5) | B71: Increasing cultural understanding and diversity in applied behavior analysis | C71: =IF('Adherence Review'!$B$34="","Not Scored",IF('Adherence Review'!$B$34="X","X","✔")) -> Not Scored | Q71: =IF('Adherence Review'!$B$34="","Not Scored",IF('Adherence Review'!$B$34="X","X","✔")) -> Not Scored
A72: Other cultural/heritage considerations (if known) (3 of 5) | B72: Implementing culturally responsive and trauma-informed practices with checklists and goal setting | C72: =IF('Adherence Review'!$B$34="","Not Scored",IF('Adherence Review'!$B$34="X","X","✔")) -> Not Scored | Q72: =IF('Adherence Review'!$B$34="","Not Scored",IF('Adherence Review'!$B$34="X","X","✔")) -> Not Scored
A73: Other cultural/heritage considerations (if known) (4 of 5) | B73: Person-centered planning: A gateway to improving vocational rehabilitation services for culturally diverse individuals with disabilities | C73: =IF('Adherence Review'!$B$34="","Not Scored",IF('Adherence Review'!$B$34="X","X","✔")) -> Not Scored | Q73: =IF('Adherence Review'!$B$34="","Not Scored",IF('Adherence Review'!$B$34="X","X","✔")) -> Not Scored
A74: Other cultural/heritage considerations (if known) (5 of 5) | B74: Cultural responsiveness in applied behavior analysis: research and practice | C74: =IF('Adherence Review'!$B$34="","Not Scored",IF('Adherence Review'!$B$34="X","X","✔")) -> Not Scored | Q74: =IF('Adherence Review'!$B$34="","Not Scored",IF('Adherence Review'!$B$34="X","X","✔")) -> Not Scored
A75: Functional Behavioral Assessment (FBA) | B75: Virginia Law 12VAC30-122-550. Therapeutic consultation service. | C75: Adherence Review Results
A76: The FBA methods include descriptive assessment and/or functional analysis (1 of 9) | B76: Functional assessment of problem behavior: dispelling myths, overcoming implementation obstacles, and developing new lore | C76: =IF('Adherence Review'!$B$38="","Not Scored",IF('Adherence Review'!$B$38="X","X","✔")) -> Not Scored | P76: 61 | Q76: =IF('Adherence Review'!$B$38="","Not Scored",IF('Adherence Review'!$B$38="X","X","✔")) -> Not Scored
A77: The FBA methods include descriptive assessment and/or functional analysis (2 of 9) | B77: Producing meaningful improvements in problem behavior of children with autism via synthesized analyses and treatments | C77: =IF('Adherence Review'!$B$38="","Not Scored",IF('Adherence Review'!$B$38="X","X","✔")) -> Not Scored | Q77: =IF('Adherence Review'!$B$38="","Not Scored",IF('Adherence Review'!$B$38="X","X","✔")) -> Not Scored
A78: The FBA methods include descriptive assessment and/or functional analysis (3 of 9) | B78: Elements of behavior support plans: a technical brief. Exceptionality | C78: =IF('Adherence Review'!$B$38="","Not Scored",IF('Adherence Review'!$B$38="X","X","✔")) -> Not Scored | Q78: =IF('Adherence Review'!$B$38="","Not Scored",IF('Adherence Review'!$B$38="X","X","✔")) -> Not Scored
A79: The FBA methods include descriptive assessment and/or functional analysis (4 of 9) | B79: Reliability and validity of the Functional Analysis Screening Tool | C79: =IF('Adherence Review'!$B$38="","Not Scored",IF('Adherence Review'!$B$38="X","X","✔")) -> Not Scored | Q79: =IF('Adherence Review'!$B$38="","Not Scored",IF('Adherence Review'!$B$38="X","X","✔")) -> Not Scored
A80: The FBA methods include descriptive assessment and/or functional analysis (5 of 9) | B80: Functional analysis and treatment of adult problem behavior | C80: =IF('Adherence Review'!$B$38="","Not Scored",IF('Adherence Review'!$B$38="X","X","✔")) -> Not Scored | Q80: =IF('Adherence Review'!$B$38="","Not Scored",IF('Adherence Review'!$B$38="X","X","✔")) -> Not Scored
A81: The FBA methods include descriptive assessment and/or functional analysis (6 of 9) | B81: Efficiency, safety, and dissemination: Considerations for research and practice related to the practical functional assessment | C81: =IF('Adherence Review'!$B$38="","Not Scored",IF('Adherence Review'!$B$38="X","X","✔")) -> Not Scored | Q81: =IF('Adherence Review'!$B$38="","Not Scored",IF('Adherence Review'!$B$38="X","X","✔")) -> Not Scored
A82: The FBA methods include descriptive assessment and/or functional analysis (7 of 9) | B82: Functional analysis decision-making considerations | C82: =IF('Adherence Review'!$B$38="","Not Scored",IF('Adherence Review'!$B$38="X","X","✔")) -> Not Scored | Q82: =IF('Adherence Review'!$B$38="","Not Scored",IF('Adherence Review'!$B$38="X","X","✔")) -> Not Scored
A83: The FBA methods include descriptive assessment and/or functional analysis (8 of 9) | B83: Toward a functional analysis of self-injury | C83: =IF('Adherence Review'!$B$38="","Not Scored",IF('Adherence Review'!$B$38="X","X","✔")) -> Not Scored | Q83: =IF('Adherence Review'!$B$38="","Not Scored",IF('Adherence Review'!$B$38="X","X","✔")) -> Not Scored
A84: The FBA methods include descriptive assessment and/or functional analysis (9 of 9) | B84: Reliability analysis of the Motivation Assessment Scale: A failure to replicate | C84: =IF('Adherence Review'!$B$38="","Not Scored",IF('Adherence Review'!$B$38="X","X","✔")) -> Not Scored | Q84: =IF('Adherence Review'!$B$38="","Not Scored",IF('Adherence Review'!$B$38="X","X","✔")) -> Not Scored
A85: The FBA methods used are described (1 of 2) | B85: Applied Behavior Analysis Pages 627-653 | C85: =IF('Adherence Review'!$B$39="","Not Scored",IF('Adherence Review'!$B$39="X","X","✔")) -> Not Scored | P85: 62 | Q85: =IF('Adherence Review'!$B$39="","Not Scored",IF('Adherence Review'!$B$39="X","X","✔")) -> Not Scored
A86: The FBA methods used are described (2 of 2) | B86: Toward an understanding of the essential components of behavior analytic service plans | C86: =IF('Adherence Review'!$B$39="","Not Scored",IF('Adherence Review'!$B$39="X","X","✔")) -> Not Scored | Q86: =IF('Adherence Review'!$B$39="","Not Scored",IF('Adherence Review'!$B$39="X","X","✔")) -> Not Scored
A87: FBA conducted in location where services are occurring (1 of 1) | B87: Virginia DBHDS/DMAS Practice Guidelines for Behavior Support Plans | C87: =IF('Adherence Review'!$B$40="","Not Scored",IF('Adherence Review'!$B$40="X","X","✔")) -> Not Scored | P87: 63 | Q87: =IF('Adherence Review'!$B$40="","Not Scored",IF('Adherence Review'!$B$40="X","X","✔")) -> Not Scored
A88: Setting events/motivating operations (1 of 7) | B88: Motivating operations and terms to describe them: some further refinements | C88: =IF('Adherence Review'!$B$41="","Not Scored",IF('Adherence Review'!$B$41="X","X","✔")) -> Not Scored | P88: 64 | Q88: =IF('Adherence Review'!$B$41="","Not Scored",IF('Adherence Review'!$B$41="X","X","✔")) -> Not Scored
A89: Setting events/motivating operations (2 of 7) | B89: Implications and refinements of the establishing operations concept | C89: =IF('Adherence Review'!$B$41="","Not Scored",IF('Adherence Review'!$B$41="X","X","✔")) -> Not Scored | Q89: =IF('Adherence Review'!$B$41="","Not Scored",IF('Adherence Review'!$B$41="X","X","✔")) -> Not Scored
A90: Setting events/motivating operations (3 of 7) | B90: On the distinction between the motivating operation and setting event concepts | C90: =IF('Adherence Review'!$B$41="","Not Scored",IF('Adherence Review'!$B$41="X","X","✔")) -> Not Scored | Q90: =IF('Adherence Review'!$B$41="","Not Scored",IF('Adherence Review'!$B$41="X","X","✔")) -> Not Scored
A91: Setting events/motivating operations (4 of 7) | B91: A tutorial on the concept of motivating operation and its importance to application | C91: =IF('Adherence Review'!$B$41="","Not Scored",IF('Adherence Review'!$B$41="X","X","✔")) -> Not Scored | Q91: =IF('Adherence Review'!$B$41="","Not Scored",IF('Adherence Review'!$B$41="X","X","✔")) -> Not Scored
A92: Setting events/motivating operations (5 of 7) | B92: Conditioned motivating operations: Examples and practical considerations | C92: =IF('Adherence Review'!$B$41="","Not Scored",IF('Adherence Review'!$B$41="X","X","✔")) -> Not Scored | Q92: =IF('Adherence Review'!$B$41="","Not Scored",IF('Adherence Review'!$B$41="X","X","✔")) -> Not Scored
A93: Setting events/motivating operations (6 of 7) | B93: Using brief assessments to evaluate aberrant behavior maintained by attention | C93: =IF('Adherence Review'!$B$41="","Not Scored",IF('Adherence Review'!$B$41="X","X","✔")) -> Not Scored | Q93: =IF('Adherence Review'!$B$41="","Not Scored",IF('Adherence Review'!$B$41="X","X","✔")) -> Not Scored
A94: Setting events/motivating operations (7 of 7) | B94: The use of structural analysis to identify setting events in applied settings for students with emotional/behavioral disorders | C94: =IF('Adherence Review'!$B$41="","Not Scored",IF('Adherence Review'!$B$41="X","X","✔")) -> Not Scored | Q94: =IF('Adherence Review'!$B$41="","Not Scored",IF('Adherence Review'!$B$41="X","X","✔")) -> Not Scored
A95: Antecedents (1 of 4) | B95: Applied Behavior Analysis Pages 627-653 | C95: =IF('Adherence Review'!$B$42="","Not Scored",IF('Adherence Review'!$B$42="X","X","✔")) -> Not Scored | P95: 65 | Q95: =IF('Adherence Review'!$B$42="","Not Scored",IF('Adherence Review'!$B$42="X","X","✔")) -> Not Scored
A96: Antecedents (2 of 4) | B96: Elements of behavior support plans: a technical brief. | C96: =IF('Adherence Review'!$B$42="","Not Scored",IF('Adherence Review'!$B$42="X","X","✔")) -> Not Scored | Q96: =IF('Adherence Review'!$B$42="","Not Scored",IF('Adherence Review'!$B$42="X","X","✔")) -> Not Scored
A97: Antecedents (3 of 4) | B97: Using structural analysis in natural settings: A responsive functional assessment strategy | C97: =IF('Adherence Review'!$B$42="","Not Scored",IF('Adherence Review'!$B$42="X","X","✔")) -> Not Scored | Q97: =IF('Adherence Review'!$B$42="","Not Scored",IF('Adherence Review'!$B$42="X","X","✔")) -> Not Scored
A98: Antecedents (4 of 4) | B98: The use of structural analysis to identify setting events in applied settings for students with emotional/behavioral disorders | C98: =IF('Adherence Review'!$B$42="","Not Scored",IF('Adherence Review'!$B$42="X","X","✔")) -> Not Scored | Q98: =IF('Adherence Review'!$B$42="","Not Scored",IF('Adherence Review'!$B$42="X","X","✔")) -> Not Scored
A99: Consequences (1 of 3) | B99: Applied Behavior Analysis Pages 627-653 | C99: =IF('Adherence Review'!$B$43="","Not Scored",IF('Adherence Review'!$B$43="X","X","✔")) -> Not Scored | P99: 66 | Q99: =IF('Adherence Review'!$B$43="","Not Scored",IF('Adherence Review'!$B$43="X","X","✔")) -> Not Scored
A100: Consequences (2 of 3) | B100: Elements of behavior support plans: a technical brief. | C100: =IF('Adherence Review'!$B$43="","Not Scored",IF('Adherence Review'!$B$43="X","X","✔")) -> Not Scored | Q100: =IF('Adherence Review'!$B$43="","Not Scored",IF('Adherence Review'!$B$43="X","X","✔")) -> Not Scored
...

Sheet Definitions
A1: Definitions
A2: Use the definitions below to score the Behavior Support Plan Adherence Review Instrument.
A3: Required BSP content area | B3: Adherence Review Results | C3: Required minimum elements | D3: Scoring criteria (unless otherwise indicated, an X constitutes absence of what is listed as criteria for a ✔)
A4: Demographics | B4: =IF('Adherence Review'!$B4="","Not Scored",IF('Adherence Review'!$B4="X","X","✔")) -> Not Scored | C4: Individual’s name | D4: ✔ = Individual's first name (or preferred name) and last name are included
A5: Demographics | B5: =IF('Adherence Review'!$B5="","Not Scored",IF('Adherence Review'!$B5="X","X","✔")) -> Not Scored | C5: Date of birth or age | D5: ✔ = Individual's date of birth and/or age are included
A6: Demographics | B6: =IF('Adherence Review'!$B6="","Not Scored",IF('Adherence Review'!$B6="X","X","✔")) -> Not Scored | C6: Gender identification | D6: ✔ = Gender identification is noted via pronouns or specifically stated.
A7: Demographics | B7: =IF('Adherence Review'!$B7="","Not Scored",IF('Adherence Review'!$B7="X","X","✔")) -> Not Scored | C7: Medical/behavioral health diagnostic information | D7: ✔ = One or more medical/behavioral health diagnosis is included.
A8: Demographics | B8: =IF('Adherence Review'!$B8="","Not Scored",IF('Adherence Review'!$B8="X","X","✔")) -> Not Scored | C8: Current living situation & location where the behavior support plan (BSP) is being implemented | D8: ✔ = The individual's home is named, described, or address provided. If the BSP is being implemented in a place that is not the individual's home, documentation includes a name, description, or address of that location or locations.
A9: Demographics | B9: =IF('Adherence Review'!$B9="","Not Scored",IF('Adherence Review'!$B9="X","X","✔")) -> Not Scored | C9: Medicaid ID | D9: ✔ = The individual's Medicaid ID number is included
A10: Demographics | B10: =IF('Adherence Review'!$B10="","Not Scored",IF('Adherence Review'!$B10="X","X","✔")) -> Not Scored | C10: Medications (if known) | D10: ✔ = Medications are included in and/or information is provided regarding where this information can be found (e.g., MAR).
A11: Demographics | B11: =IF('Adherence Review'!$B11="","Not Scored",IF('Adherence Review'!$B11="X","X","✔")) -> Not Scored | C11: Legal status (e.g., authority to consent to plan) | D11: ✔ = Information is provided regarding who has legal authority to consent to the plan. This may be the person receiving services or another individual such as a guardian.
A12: Demographics | B12: =IF('Adherence Review'!$B12="","Not Scored",IF('Adherence Review'!$B12="X","X","✔")) -> Not Scored | C12: Date of initial plan and revisions (and nature of revisions) | D12: ✔ = The first date of the behavior support plan or assessment is listed; if applicable, dates of revisions are listed and information is provided in the BSP about the revision, or revisions. Revision information may also be garnered from graphical displays.
A13: Demographics | B13: =IF('Adherence Review'!$B13="","Not Scored",IF('Adherence Review'!$B13="X","X","✔")) -> Not Scored | C13: Authoring clinician’s name/credentials/contact information | D13: ✔ = The name of the clinician overseeing the plan is listed, their credentials is listed, and contact information (e.g. phone, fax, email, physical address, and/or website with contact information) is provided.
A14: History and Rationale | B14: =IF('Adherence Review'!$B17="","Not Scored",IF('Adherence Review'!$B17="X","X","✔")) -> Not Scored | C14: Current and/or relevant historical info about this person and their life | D14: ✔ = Current and/or historical information about the person and their life is provided
A15: History and Rationale | B15: =IF('Adherence Review'!$B18="","Not Scored",IF('Adherence Review'!$B18="X","X","✔")) -> Not Scored | C15: The reason, rationale for BSP/necessity for intervention | D15: ✔ = The reason, rationale, necessity for behavioral intervention is listed
A16: History and Rationale | B16: =IF('Adherence Review'!$B19="","Not Scored",IF('Adherence Review'!$B19="X","X","✔")) -> Not Scored | C16: Dangerous behavior: topographies, intensities, risks and/or negative outcomes | D16: ✔ = The topography, intensity, risks associated with/and or negative outcomes is provided for at least one challenging behavior in the plan
A17: History and Rationale | B17: =IF('Adherence Review'!$B20="","Not Scored",IF('Adherence Review'!$B20="X","X","✔")) -> Not Scored | C17: Risk and benefits related to prescribed behavioral programming | D17: ✔ = A risk benefit statement, risk benefit analysis, and/or signed attestation that risks/benefits have been reviewed with the person who is consenting to the plan is listed
A18: History and Rationale | B18: =IF('Adherence Review'!$B21="","Not Scored",IF('Adherence Review'!$B21="X","X","✔")) -> Not Scored | C18: Known history of previous services and impact on behavior | D18: ✔ = Information on previous service, or services relevant to behavior is included, along with impact on behavior or outcome of service, or services. If not provided, "unknown" or other similar indication is provided about this history
A19: History and Rationale | B19: =IF('Adherence Review'!$B22="","Not Scored",IF('Adherence Review'!$B22="X","X","✔")) -> Not Scored | C19: Trauma history | D19: ✔ = Includes a description or descriptions of an event, series of events, or set of circumstances experienced by the individual that is physically or emotionally harmful or life threatening. Or, trauma history/considerations are noted as "unknown", "not applicable" or other similar indication is provided that indicates this information is not available or relevant to this person.
A20: Person Centered Information | B20: =IF('Adherence Review'!$B26="","Not Scored",IF('Adherence Review'!$B26="X","X","✔")) -> Not Scored | C20: Individual’s communication modality | D20: ✔ = Includes information about how the person communicates with others
A21: Person Centered Information | B21: =IF('Adherence Review'!$B27="","Not Scored",IF('Adherence Review'!$B27="X","X","✔")) -> Not Scored | C21: Routines/current schedule | D21: ✔ = Includes information on the person's schedule and/or routines
A22: Person Centered Information | B22: =IF('Adherence Review'!$B28="","Not Scored",IF('Adherence Review'!$B28="X","X","✔")) -> Not Scored | C22: Individual and guardian’s participation | D22: ✔ = Includes information about how the individual (and guardian, if guardian is required to consent to plan), participated in assessment and/or plan development
A23: Person Centered Information | B23: =IF('Adherence Review'!$B29="","Not Scored",IF('Adherence Review'!$B29="X","X","✔")) -> Not Scored | C23: What activities are enjoyed and sought by the individual | D23: ✔ = Includes information about stimuli that are known to be or hypothesized to be preferred/enjoyed by the individual (e.g. stimuli that may function as reinforcement). May not necessarily include the specific methods used (e.g. preference assessment) to determine these stimuli.
A24: Person Centered Information | B24: =IF('Adherence Review'!$B30="","Not Scored",IF('Adherence Review'!$B30="X","X","✔")) -> Not Scored | C24: Preference assessment information/results | D24: ✔ = Includes information about both the type and results of preference assessment, or assessments conducted to determine what may function as reinforcement for the individual
A25: Person Centered Information | B25: =IF('Adherence Review'!$B31="","Not Scored",IF('Adherence Review'!$B31="X","X","✔")) -> Not Scored | C25: Individual’s strengths and positive contributions | D25: ✔ = Includes information about what the person is good at, and/or behaviors the person engages in that are valued by others.
A26: Person Centered Information | B26: =IF('Adherence Review'!$B32="","Not Scored",IF('Adherence Review'!$B32="X","X","✔")) -> Not Scored | C26: Particular aversions/dislikes | D26: ✔ = Includes information about what the person does not like or may not like/find to be aversive, unpleasant, noxious
A27: Person Centered Information | B27: =IF('Adherence Review'!$B33="","Not Scored",IF('Adherence Review'!$B33="X","X","✔")) -> Not Scored | C27: Who in the individual’s life is especially preferred | D27: ✔ = Notes who in the person's life is preferred by the person and/or who the person enjoys to be with. If this is not applicable to the person, notes that the person does not have preferred people in their life
A28: Person Centered Information | B28: =IF('Adherence Review'!$B34="","Not Scored",IF('Adherence Review'!$B34="X","X","✔")) -> Not Scored | C28: Other cultural/heritage considerations (if known) | D28: ✔ = Includes information about race, socioeconomic class, religion, sexual orientation, ethnicity, nationality, linguistic, and/or geographic context (beyond the address of where services are occurring). Or, cultural/heritage considerations are noted as "unknown", "not applicable" or other similar indication is provided that indicates this information is not available or relevant to this person.
A29: Functional Behavioral Assessment (FBA) | B29: =IF('Adherence Review'!$B38="","Not Scored",IF('Adherence Review'!$B38="X","X","✔")) -> Not Scored | C29: The FBA methods include descriptive assessment and/or functional analysis | D29: ✔ = Descriptive assessment and/or functional analysis methods were used in the FBA, conducted or overseen by a qualified clinician
A30: Functional Behavioral Assessment (FBA) | B30: =IF('Adherence Review'!$B39="","Not Scored",IF('Adherence Review'!$B39="X","X","✔")) -> Not Scored | C30: The FBA methods used are described | D30: ✔ = The method, or methods for FBA are listed
A31: Functional Behavioral Assessment (FBA) | B31: =IF('Adherence Review'!$B40="","Not Scored",IF('Adherence Review'!$B40="X","X","✔")) -> Not Scored | C31: FBA conducted in location where services are occurring | D31: ✔ = The location of where the FBA was conducted is the same for at least 1 setting for where services are occurring
A32: Functional Behavioral Assessment (FBA) | B32: =IF('Adherence Review'!$B41="","Not Scored",IF('Adherence Review'!$B41="X","X","✔")) -> Not Scored | C32: Setting events/motivating operations | D32: ✔ = Setting events/motivating operations are generally listed, or listed specifically for at least 1 behavior targeted for decrease. May be noted specifically as "setting events" or the omnibus term "motivating operations" (or EOs/AOs), or may be counted as present if unconditioned motivating operations are listed as antecedents.
A33: Functional Behavioral Assessment (FBA) | B33: =IF('Adherence Review'!$B42="","Not Scored",IF('Adherence Review'!$B42="X","X","✔")) -> Not Scored | C33: Antecedents | D33: ✔ = The antecedents to challenging behavior are generally listed, or specifically listed for at least 1 behavior targeted for decrease
A34: Functional Behavioral Assessment (FBA) | B34: =IF('Adherence Review'!$B43="","Not Scored",IF('Adherence Review'!$B43="X","X","✔")) -> Not Scored | C34: Consequences | D34: ✔ = The maintaining consequence, or consequences to challenging behavior are generally listed, or specifically listed for at least 1 behavior targeted for decrease
A35: Functional Behavioral Assessment (FBA) | B35: =IF('Adherence Review'!$B44="","Not Scored",IF('Adherence Review'!$B44="X","X","✔")) -> Not Scored | C35: Data results and/or graphical displays | D35: ✔ = A graph or raw data are provided from at least one method from the FBA, and/or baseline data are provided
A36: Functional Behavioral Assessment (FBA) | B36: =IF('Adherence Review'!$B45="","Not Scored",IF('Adherence Review'!$B45="X","X","✔")) -> Not Scored | C36: FBA is current (since most recent shared planning meeting or statement of recent validity of function) | D36: ✔ = The FBA is no more than 1 year older than the date of the ISP, or there is a statement that indicates validity of the FBA that is more than 1 year old
A37: Functional Behavioral Assessment (FBA) | B37: =IF('Adherence Review'!$B46="","Not Scored",IF('Adherence Review'!$B46="X","X","✔")) -> Not Scored | C37: Non-operant conditions that influence behavior (if applicable) | D37: ✔ = Includes information about genetic abnormalities, medical conditions, and/or psychiatric or neurological dysfunctions specifically as contributors to challenging behavior (e.g. Prader-Willi, polydipsia, epilepsy). Additionally, respondents explicitly labeled as related to challenging behavior are included. Or, non-operant conditions are noted as "unknown", "not applicable" or other similar indication is provided that indicates this information is not available or relevant to this person.
A38: Hypothesized Functions | B38: =IF('Adherence Review'!$B50="","Not Scored",IF('Adherence Review'!$B50="X","X","✔")) -> Not Scored | C38: Hypothesized functions listed | D38: ✔ = For all behaviors targeted for decrease in the BSP, hypothesized function, or functions listed
A39: Hypothesized Functions | B39: =IF('Adherence Review'!$B51="","Not Scored",IF('Adherence Review'!$B51="X","X","✔")) -> Not Scored | C39: Functions match to accepted operant functions | D39: ✔ = For all behaviors with a hypothesized function, the hypothesized functions are accepted operant functions
A40: Behaviors Targeted for Decrease | B40: =IF('Adherence Review'!$B55="","Not Scored",IF('Adherence Review'!$B55="X","X","✔")) -> Not Scored | C40: Lists each behavior targeted for decrease | D40: ✔ = Provides a name for each behavior targeted for decrease (e.g. Aggression, Property Destruction). X = There are no names listed for behaviors targeted for decrease, or there are no behaviors targeted for decrease in the BSP.
A41: Behaviors Targeted for Decrease | B41: =IF('Adherence Review'!$B56="","Not Scored",IF('Adherence Review'!$B56="X","X","✔")) -> Not Scored | C41: Operational definition for each behavior targeted for decrease | D41: ✔ = For each behavior targeted for decrease, an operational definition is included.
A42: Behaviors Targeted for Decrease | B42: =IF('Adherence Review'!$B57="","Not Scored",IF('Adherence Review'!$B57="X","X","✔")) -> Not Scored | C42: Method of measurement for each behavior targeted for decrease | D42: ✔ = For each behavior targeted for decrease, a method of measurement is included (examples could include, but are not limited to, count, rate/frequency, duration, time sampling, etc.).. If not explicitly listed in the section of the BSP with behaviors for decrease, the method of measurement is included on the graph, or graphs for each behavior targeted for decrease.
A43: Behaviors Targeted for Decrease | B43: =IF('Adherence Review'!$B58="","Not Scored",IF('Adherence Review'!$B58="X","X","✔")) -> Not Scored | C43: Inclusion in definition of examples and/or non-examples for each behavior targeted for decrease | D43: ✔ = At least one behavioral definition for behaviors targeted for decrease includes an example and/or a non-example
A44: Behaviors Targeted for Increase | B44: =IF('Adherence Review'!$B62="","Not Scored",IF('Adherence Review'!$B62="X","X","✔")) -> Not Scored | C44: Lists each behavior targeted for increase | D44: ✔ = Provides a name for each behavior targeted for increase (e.g. Mands for attention, Request break). X = There are no names listed for behaviors targeted for increase, or there are no behaviors targeted for increase in the BSP.
A45: Behaviors Targeted for Increase | B45: =IF('Adherence Review'!$B63="","Not Scored",IF('Adherence Review'!$B63="X","X","✔")) -> Not Scored | C45: Operational definition for each behavior targeted for increase | D45: ✔ = For each behavior targeted for increase, an operational definition is included.
A46: Behaviors Targeted for Increase | B46: =IF('Adherence Review'!$B64="","Not Scored",IF('Adherence Review'!$B64="X","X","✔")) -> Not Scored | C46: Method of measurement for each behavior targeted for increase | D46: ✔ = For each behavior targeted for increase, a method of measurement is included (examples could include, but are not limited to, count, rate/frequency, duration, time sampling, etc.). If not explicitly listed in the section of the BSP with behaviors for increase, the method of measurement is included on the graph, or graphs for each behavior targeted for increase.
A47: Behaviors Targeted for Increase | B47: =IF('Adherence Review'!$B65="","Not Scored",IF('Adherence Review'!$B65="X","X","✔")) -> Not Scored | C47: Inclusion in definition of examples and/or non-examples for each behavior targeted for increase | D47: ✔ = At least one behavioral definition for behaviors targeted for increase includes an example and/or a non-example
A48: Antecedent Interventions | B48: =IF('Adherence Review'!$B69="","Not Scored",IF('Adherence Review'!$B69="X","X","✔")) -> Not Scored | C48: Tactics promote environment in which functionally equivalent replacement behavior (FERB) and/or desirable behavior acquisition will occur | D48: ✔ = Includes information about how to set up the environment to promote at least 1 functionally equivalent replacement behavior (or desirable behavior) that is targeted for acquisition in the plan. May itemize how to set up the environment to foster FERB (and/or desirable behavior) for each behavior targeted for increase, or may have general information not specifically tied to each behavior targeted for increase
A49: Antecedent Interventions | B49: =IF('Adherence Review'!$B70="","Not Scored",IF('Adherence Review'!$B70="X","X","✔")) -> Not Scored | C49: Tactics that address setting events and/or motivating operations (MOs) | D49: ✔ = The plan provides information about how to abate challenging behavior for at least one setting event/MO as outlined in the FBA. Or, if this information was not listed in the FBA, the plan includes information about how to abate challenging behavior based on the hypothesized function, or functions listed in the FBA for at least one behavioral function.
A50: Antecedent Interventions | B50: =IF('Adherence Review'!$B71="","Not Scored",IF('Adherence Review'!$B71="X","X","✔")) -> Not Scored | C50: Tactics/de-escalation strategies that address immediate antecedents and/or precursors | D50: ✔ = The plan provides at least one tactic/strategy that addresses at least one immediate antecedent (or precursor) as listed from the FBA
A51: Antecedent Interventions | B51: =IF('Adherence Review'!$B72="","Not Scored",IF('Adherence Review'!$B72="X","X","✔")) -> Not Scored | C51: Strategies that describe stimuli that should or should not be present | D51: ✔ = The plan provides information about stimuli that should be present or should not be present as an antecedent modification to reduce the likelihood that challenging behavior will occur, or to increase the likelihood that desirable behavior will occur
A52: Consequence Interventions | B52: =IF('Adherence Review'!$B76="","Not Scored",IF('Adherence Review'!$B76="X","X","✔")) -> Not Scored | C52: Tactics incorporate a function-based treatment approach for challenging behavior | D52: ✔ = As derived from the FBA, a function based treatment is incorporated for at least 1 challenging behavior
A53: Consequence Interventions | B53: =IF('Adherence Review'!$B77="","Not Scored",IF('Adherence Review'!$B77="X","X","✔")) -> Not Scored | C53: Tactics use the least-restrictive approach for challenging behavior | D53: ✔ = No restrictions, restraint, exclusionary time out, or programmed punishment are in the plan. If these are present, rationale is provided that outlines the necessity of such approaches
A54: Consequence Interventions | B54: =IF('Adherence Review'!$B78="","Not Scored",IF('Adherence Review'!$B78="X","X","✔")) -> Not Scored | C54: Tactics minimize reinforcement for challenging behavior | D54: ✔ = Reinforcers for challenging behavior as outlined in the FBA are not provided contingent on challenging behavior. If the reinforcer is provided, it is clear why it is provided (e.g. reinforcement of precursor behavior)
A55: Consequence Interventions | B55: =IF('Adherence Review'!$B79="","Not Scored",IF('Adherence Review'!$B79="X","X","✔")) -> Not Scored | C55: Inclusion of preferences/reinforcers, schedule of reinforcement, and/or expectations for learning environment/materials/teaching conditions to increase desired behavior | D55: ✔ = Schedule of reinforcement is included for at least 1 desirable behavior, or preferences/reinforcers are programmed in to promote desired behavior, or information about setting up learning environment/materials/teaching conditions to increase desired behavior is included
A56: Safety & Crisis Guidelines | B56: =IF('Adherence Review'!$B83="","Not Scored",IF('Adherence Review'!$B83="X","X","✔")) -> Not Scored | C56: Safety gear outlined | D56: ✔ = Safety gear is noted in the plan, which may include but is not limited to protective gear, equipment used in vehicles or in the community to ensure safety of person and others, and/or phones/GPS locators. Or, the plan notes that this is not applicable or other similar wording that indicates that there is no equipment that supporters need to ensure safety of the person and others. The reviewer does not make a judgement on the necessity of safety gear in scoring. X = There is no safety gear included in the plan, or there is no wording in the plan that indicates safety gear is not applicable. The reviewer does not make a judgement on the necessity of safety gear in scoring.
A57: Safety & Crisis Guidelines | B57: =IF('Adherence Review'!$B84="","Not Scored",IF('Adherence Review'!$B84="X","X","✔")) -> Not Scored | C57: Crisis protocol or where to obtain the protocol | D57: ✔ = Includes information about an individualized crisis/safety protocol for this person (or where to obtain the protocol). Or, includes specific crisis protocol/training program that supporters are trained in. Or, indicates that this not applicable or other similar wording that indicates that there is no crisis protocol specific to this person or not specific crisis protocol/training program that supporters are trained in. The reviewer does not make a judgement on the necessity of crisis protocol in scoring. X = There is no information in the plan about individualized crisis/safety protocol for this person, no information about a crisis protocol/training program supporters are trained in, or no indication that this is not applicable to this person. The reviewer does not make a judgement on the necessity of crisis protocol in scoring.
A58: Safety & Crisis Guidelines | B58: =IF('Adherence Review'!$B85="","Not Scored",IF('Adherence Review'!$B85="X","X","✔")) -> Not Scored | C58: Describes supports needed to ensure safety of person and others | D58: ✔ = Includes information about how to ensure safety of person and others when challenging behavior occurs for at least one challenging behavior. If an individualized crisis/safety protocol is included for this person (or information about where to obtain the protocol is provided), score a ✔. Or, indicates that this is not applicable to this person or other similar wording that indicates there is no support needed to ensure the safety of the person and others. X = There is no information in the plan about supports needed to ensure safety of person and others. If "crisis protocol or where to obtain the protocol" is scored as X, this is also scored as X. The reviewer does not make a judgement on the supports needed to ensure safety of person or others.
A59: Safety & Crisis Guidelines | B59: =IF('Adherence Review'!$B86="","Not Scored",IF('Adherence Review'!$B86="X","X","✔")) -> Not Scored | C59: If restraint or time out is included, notes debriefing procedures | D59: ✔ = If restraint or time out is included as defined in 12VAC35-115-110, notes debriefing procedures. X = Restraint or time out is included as defined in 12VAC35-115-110 and there is no information about debriefing afterward. N/A = There is no restraint or time out as defined in 12VAC35-115-110 included in the BSP.
A60: Safety & Crisis Guidelines | B60: =IF('Adherence Review'!$B87="","Not Scored",IF('Adherence Review'!$B87="X","X","✔")) -> Not Scored | C60: If restraint or time out is included, notes criteria for release or refers to provider policy and procedures | D60: ✔ = If restraint or time out is included as defined in 12VAC35-115-110, provides information about criteria for release or refers to provider's policies and procedures. X = Restraint or time out is included as defined in 12VAC35-115-110 and there is no information about criteria for release or reference to provider's policies and procedures. N/A = There is no restraint or time out as defined in 12VAC35-115-110 included in the BSP.
A61: Plan for Training | B61: =IF('Adherence Review'!$B91="","Not Scored",IF('Adherence Review'!$B91="X","X","✔")) -> Not Scored | C61: Outlines a plan for training staff, family, or other supporters that notes clinician obtaining and reviewing data | D61: ✔ = A training plan for supporters is included. Information is also provided about the behaviorist obtaining data for review.
A62: Plan for Training | B62: =IF('Adherence Review'!$B92="","Not Scored",IF('Adherence Review'!$B92="X","X","✔")) -> Not Scored | C62: Plan incorporates a Behavior Skills Training (BST) approach | D62: ✔ = Plan specifically notes behavior skills training approach to training, or includes information about training approach that includes the four core tenets of BST (instruction, modeling, rehearsal, feedback)
A63: Plan for Training | B63: =IF('Adherence Review'!$B93="","Not Scored",IF('Adherence Review'!$B93="X","X","✔")) -> Not Scored | C63: Training record (or plan for training based on authorization type) is available in WaMS related to recent review period | D63: ✔ = If the plan is in "annual" status, there is evidence that training has been completed (e.g. session note, training sign in/out log, dates of training and topic, etc.). If the plan is in secondary status, a ✔ is provided if a plan for training is also scored as a ✔
A64: Appropriate Signatures | B64: =IF('Adherence Review'!$B97="","Not Scored",IF('Adherence Review'!$B97="X","X","✔")) -> Not Scored | C64: Plan is signed by individual or legal guardian | D64: ✔ = Plan is signed by the person that has the legal authority to consent to the plan
A65: Appropriate Signatures | B65: =IF('Adherence Review'!$B98="","Not Scored",IF('Adherence Review'!$B98="X","X","✔")) -> Not Scored | C65: Signature for consent includes date | D65: ✔ = The signature for consent is dated
A66: Appropriate Signatures | B66: =IF('Adherence Review'!$B99="","Not Scored",IF('Adherence Review'!$B99="X","X","✔")) -> Not Scored | C66: Contact information for guardian or individual is present | D66: ✔ = The contact information for the person who has the legal authority consent to the plan is included (e.g. phone number, email, physical address)
A67: Appropriate Signatures | B67: =IF('Adherence Review'!$B100="","Not Scored",IF('Adherence Review'!$B100="X","X","✔")) -> Not Scored | C67: If a restrictive component is included, updated consent is included and coincides with when restriction began | D67: ✔ = A restriction is present as outlined in 12VAC35-115-100 and 12VAC35-115-110 and the signed consent is dated within 45 days, prior or after, the date of the restriction commencing. If a restriction is present and date of restriction commencing is not included, signed consent is dated within 45 days, prior or after, the date of the current BSP. X = A restriction is present as outlined in 12VAC35-115-100 and 12VAC35-115-110 and there is no signed consent. Or, a restriction is present but the signed consent is more than 45 days, prior or after, the date of the restriction commencing. N/A = No restrictions present as outlined in 12VAC35-115-100 and 12VAC35-115-110
A68: Graphical Displays & Analysis | B68: =IF('Adherence Review'!$B104="","Not Scored",IF('Adherence Review'!$B104="X","X","✔")) -> Not Scored | C68: Visual display (e.g. graphs) for each behavior targeted in the BSP, to include behaviors for decrease and increase | D68: Click for scoring instructions for additional information on secondary status graph scoring: ✔✔ = Every behavior targeted for decrease and increase is present on a graphs. Must include behaviors for increase and decrease, even if only behaviors for decrease are formally targeted. ✔ = Only some behaviors are present on a graphs. E.g., only some of the behaviors targeted for decrease are included. X = There are no graphs present
A69: Graphical Displays & Analysis | B69: =IF('Adherence Review'!$B105="","Not Scored",IF('Adherence Review'!$B105="X","X","✔")) -> Not Scored | C69: Summary statement present for each graph | D69: ✔✔ = For the graphs that are present, there is a summary statement that provides information about progress for each behavior displayed. ✔ = For the graphs that are present, there is a summary statement for some but not all behaviors. Or, for the graphs that are present, some of the summary statements provide information about progress and others do not. X = There is no summary statement for any of the graphs that are present, or what is provided as a summary statement does not provide any information about progress.
A70: Graphical Displays & Analysis | B70: =IF('Adherence Review'!$B106="","Not Scored",IF('Adherence Review'!$B106="X","X","✔")) -> Not Scored | C70: Graphs have indicators that demonstrate decision making and/or analysis is occurring (based on behavior trends and/or revision dates) | D70: ✔✔ = For the graphs that are present, visual indicators (e.g. change line, arrow, etc.) are present on each graph. Or, if there have not been any changes to the plan or other updates in documentation that should be captured on the graphs, and if the trends/levels indicate desired responding for all graphs, select ✔✔ ✔ = For the graphs that are present, visual indicators (e.g. change line, arrow, etc.) are present on some but not all graphs. Or, if there have not been changes to the plan or other updates in documentation that should be captured on the graphs and if the trends/levels indicate desired responding for some but not all graphs, select ✔ X = There are no visual indicators on graphs and changes may be warranted based on reviewer's visual analysis of trends/levels/variability, or if changes/updates were made and are not captured on any of the graphs. Or, there are no graphs.
A71: Graphical Displays & Analysis | B71: =IF('Adherence Review'!$B107="","Not Scored",IF('Adherence Review'!$B107="X","X","✔")) -> Not Scored | C71: Graphs represent entire necessary review period (if any data absent, indication as to reason why is included) | D71: ✔ = For the graphs that are present, all data is included. Or, some data are missing from the graphs that are present, but there is an adequate reason provided in the documentation (e.g., person hospitalized) X = For the graphs that are present, there are gaps in data/missing data and there not a reason or an inadequate reason provided as to why (e.g., behavior analyst lost the data is an inadequate reason). Or, there are no graphs.
A72: Graphical Displays & Analysis | B72: =IF('Adherence Review'!$B108="","Not Scored",IF('Adherence Review'!$B108="X","X","✔")) -> Not Scored | C72: Graphs demonstrate that data review is occurring monthly if restraint or time out is included | D72: ✔ = If restraint or time out is included as outlined in 12VAC35-115-110, graphs contain at least monthly data. Or, if any data are missing, an adequate reason is provided in the documentation. X = Restraint or time out is included as outlined in 12VAC35-115-110 and graphs are missing data for one or more months, without an adequate reason as to why provided in the documentation. N/A = There is no restraint or time out included as outlined in 12VAC35-115-110
A73: End of worksheet
